BEGIN:VCALENDAR
VERSION:2.0
PRODID:-//jEvents 2.0 for Joomla//EN
CALSCALE:GREGORIAN
METHOD:PUBLISH
BEGIN:VEVENT
UID:f52652366a0ec423964e0886f3ab9470
CATEGORIES:Community Events
CREATED:20251105T203158
SUMMARY:Free Linocut Printmaking Demo
LOCATION:36 Colborne Street\, Fenelon Falls\, Ontario
DESCRIPTION:The Colborne Street Gallery In Fenelon Falls is pleased to welcome artist E
 rin LePage for a FREE linocut printmaking demonstration on Saturday, Nov 8,
  from 1 -4 pm. Erin will pull back the curtain on her craft, showing you th
 e meticulous and beautiful process behind her whimsical linocut prints.\n
X-ALT-DESC;FMTTYPE=text/html:<p>The Colborne Street Gallery In Fenelon Falls is pleased to welcome artis
 t Erin LePage for a FREE linocut printmaking demonstration on Saturday, Nov
  8, from 1 -4 pm. Erin will pull back the curtain on her craft, showing you
  the meticulous and beautiful process behind her whimsical linocut prints.<
 /p>
CONTACT:This email address is being protected from spambots. You need JavaScript enabled to view it.
DTSTAMP:20260422T182150
DTSTART:20251108T130000
DTEND:20251108T160000
SEQUENCE:0
TRANSP:OPAQUE
END:VEVENT
END:VCALENDAR