BEGIN:VCALENDAR
VERSION:2.0
PRODID:-//jEvents 2.0 for Joomla//EN
CALSCALE:GREGORIAN
METHOD:PUBLISH
BEGIN:VEVENT
UID:4478a857a208d15958348e69506dd0f5
CATEGORIES:Community Events
CREATED:20251105T204227
SUMMARY:FREE Holiday Art Show
LOCATION:36 Colborne Street\, Fenelon Falls\, Ontario
DESCRIPTION:The Colborne Street Gallery in Fenelon Falls is hosting an opening receptio
 n for its annual Holiday Art Market on Saturday, November 15th, from 2:00-4
 :00 pm. This show is packed full of small, affordable art pieces and a sele
 ction of holiday-themed cards and gifts to celebrate the season. Stop by to
  meet the artists, view their work, and enjoy some light refreshments. This
  is a FREE event.\n
X-ALT-DESC;FMTTYPE=text/html:<p>The Colborne Street Gallery in Fenelon Falls is hosting an opening recep
 tion for its annual Holiday Art Market on Saturday, November 15th, from 2:0
 0-4:00 pm. This show is packed full of small, affordable art pieces and a s
 election of holiday-themed cards and gifts to celebrate the season. Stop by
  to meet the artists, view their work, and enjoy some light refreshments. T
 his is a FREE event.</p>
CONTACT:This email address is being protected from spambots. You need JavaScript enabled to view it.
DTSTAMP:20260424T061642
DTSTART:20251115T140000
DTEND:20251115T160000
SEQUENCE:0
TRANSP:OPAQUE
END:VEVENT
END:VCALENDAR