BEGIN:VCALENDAR
VERSION:2.0
PRODID:-//jEvents 2.0 for Joomla//EN
CALSCALE:GREGORIAN
METHOD:PUBLISH
BEGIN:VEVENT
UID:73b110b431277b5c39dfd7003d9e975c
CATEGORIES:Community Events
CREATED:20251106T181120
SUMMARY:YETI Presents: A Community Film Night with Wild Rock
LOCATION:Wild Rock Outfitters\, 169 Charlotte Street\, Peterborough
DESCRIPTION:Join Wild Rock and YETI for an evening of YETI Presents films celebrating a
 dventure, storytelling, and community.\nFeaturing: The Trapline, The Polar 
 Passage &amp; Japan to Jamaica\nOn Thursday, November 20th, we’re hosting Y
 ETI Presents: A Community Film Night with Wild Rock. Only 40 exclusive tick
 ets are available: just enough to make it feel like you’re among friends, n
 ot strangers.\n\nThe films are short, sharp, and beautifully made. The food
  and drink are included. And the door prize odds? Excellent.\n\nBring in a 
 piece of used outdoor gear or clothing for Wild Again (https://wildrock.net
 /pages/wild-again) (our trade-in and resale program) and donate the credit 
 to the ComPassion Project and we’ll thank you with a raffle ticket for some
  incredible YETI giveaways.\n\nTickets are $10, and every dollar supports t
 he ComPassion Project.\n\nWe’re calling it a community film night, but real
 ly it’s just a good excuse to get together. You in?\nDETAILS:\nDate: Thursd
 ay, November 20thTime: Doors open at 6:30 PMLocation: Wild Rock Outfitters,
  169 Charlotte St, Peterborough, ONTickets: $10 - all proceeds go to the Co
 mPassion ProjectPURCHASE YOUR TICKETS HERE (https://wildrock.net/collection
 s/clinics-events/products/yeti-presents-a-community-film-night-with-wild-ro
 ck), before they sell out!\n \n
X-ALT-DESC;FMTTYPE=text/html:<p><span style="font-weight: 400;">Join Wild Rock and YETI for an evening o
 f YETI Presents films celebrating adventure, storytelling, and community.</
 span></p><p><b>Featuring: The Trapline, The Polar Passage &amp; Japan to Ja
 maica</b></p><p><span style="font-weight: 400;">On Thursday, November 20th,
  we’re hosting </span><i><span style="font-weight: 400;">YETI Presents: A C
 ommunity Film Night with Wild Rock</span></i><span style="font-weight: 400;
 ">. Only 40 exclusive tickets are available: just enough to make it feel li
 ke you’re among friends, not strangers.</span><span style="font-weight: 400
 ;"><br /></span><span style="font-weight: 400;"><br /></span><span style="f
 ont-weight: 400;">The films are short, sharp, and beautifully made. The foo
 d and drink are included. And the door prize odds? Excellent.</span><span s
 tyle="font-weight: 400;"><br /></span><span style="font-weight: 400;"><br /
 ></span><span style="font-weight: 400;">Bring in a piece of used outdoor ge
 ar or clothing for</span><a href="https://wildrock.net/pages/wild-again"><s
 pan style="font-weight: 400;"> </span><span style="font-weight: 400;">Wild 
 Again</span></a><span style="font-weight: 400;"> (our trade-in and resale p
 rogram) and donate the credit to the ComPassion Project and we’ll thank you
  with a raffle ticket for some incredible YETI giveaways.</span><span style
 ="font-weight: 400;"><br /></span><span style="font-weight: 400;"><br /></s
 pan><span style="font-weight: 400;">Tickets are $10, and every dollar suppo
 rts the ComPassion Project.</span><span style="font-weight: 400;"><br /></s
 pan><span style="font-weight: 400;"><br /></span><span style="font-weight: 
 400;">We’re calling it a community film night, but really it’s just a good 
 excuse to get together. You in?</span></p><p><span style="font-weight: 400;
 ">DETAILS:</span></p><ul><li style="font-weight: 400;" aria-level="1"><b>Da
 te:</b><span style="font-weight: 400;"> Thursday, November 20th</span></li>
 <li style="font-weight: 400;" aria-level="1"><b>Time:</b><span style="font-
 weight: 400;"> Doors open at 6:30 PM</span></li><li style="font-weight: 400
 ;" aria-level="1"><b>Location:</b><span style="font-weight: 400;"> Wild Roc
 k Outfitters, 169 Charlotte St, Peterborough, ON</span></li><li style="font
 -weight: 400;" aria-level="1"><b>Tickets:</b><span style="font-weight: 400;
 "> $10 - all proceeds go to the ComPassion Project</span></li></ul><p><a hr
 ef="https://wildrock.net/collections/clinics-events/products/yeti-presents-
 a-community-film-night-with-wild-rock"><span style="font-weight: 400;">PURC
 HASE YOUR TICKETS HERE</span></a><span style="font-weight: 400;">, before t
 hey sell out!</span></p><p> </p>
DTSTAMP:20260424T023943
DTSTART:20251120T183000
DTEND:20251120T210000
SEQUENCE:0
TRANSP:OPAQUE
END:VEVENT
END:VCALENDAR