BEGIN:VCALENDAR
VERSION:2.0
PRODID:-//jEvents 2.0 for Joomla//EN
CALSCALE:GREGORIAN
METHOD:PUBLISH
BEGIN:VEVENT
UID:8def3c0aaf91f2290a5f0de8006c5ef3
CATEGORIES:Community Events
CREATED:20251107T015903
SUMMARY:Christmas Market at Braidwood
LOCATION:550 Braidwood Avenue Peterborough 
DESCRIPTION:🎄 Save the Date 🎄\nNovember 23rd | 10am–4pm\n📍 550 Braidwood Ave — GPL Self
  Storage\n \nBeaverTails on site • Free Admission\nCorporate-sponsored priz
 es &amp; gift baskets benefiting Big Brothers Big Sisters of Peterborough\n
  \nDiscover Peterborough’s finest artisans —\nArt • Christmas gifts • Child
 ren’s toys, books &amp; accessories • Baking • Hand-crafted treasures 🎁\nQu
 ality vendors with amazing variety — something for everyone! ❄️\nTis’ the s
 eason to shop local &amp; give back! ✨🎄\n
X-ALT-DESC;FMTTYPE=text/html:<p class="p1"><span class="s1">🎄 </span><span class="s2">Save the Date</spa
 n><span class="s1"> 🎄</span></p><p class="p1"><span class="s2">November 23r
 d | 10am–4pm</span></p><p class="p1"><span class="s1">📍 </span><span class=
 "s2">550 Braidwood Ave — GPL Self Storage</span></p><p class="p2"> </p><p c
 lass="p1"><span class="s1">BeaverTails on site • </span><span class="s2">Fr
 ee Admission</span></p><p class="p1"><span class="s2">Corporate-sponsored p
 rizes &amp; gift baskets</span><span class="s1"> benefiting </span><span cl
 ass="s2">Big Brothers Big Sisters of Peterborough</span></p><p class="p2"> 
 </p><p class="p1"><span class="s1">Discover </span><span class="s2">Peterbo
 rough’s finest artisans</span><span class="s1"> —</span></p><p class="p1"><
 span class="s1">Art • Christmas gifts • Children’s toys, books &amp; access
 ories • Baking • Hand-crafted treasures 🎁</span></p><p class="p1"><span cla
 ss="s2">Quality vendors with amazing variety — something for everyone!</spa
 n><span class="s1"> ❄️</span></p><p class="p1"><span class="s1">Tis’ the se
 ason to shop local &amp; give back! ✨🎄</span></p>
DTSTAMP:20260423T163204
DTSTART:20251123T100000
DTEND:20251123T160000
SEQUENCE:0
TRANSP:OPAQUE
END:VEVENT
END:VCALENDAR