BEGIN:VCALENDAR
VERSION:2.0
PRODID:-//jEvents 2.0 for Joomla//EN
CALSCALE:GREGORIAN
METHOD:PUBLISH
BEGIN:VEVENT
UID:afbca6117d6febc67911f09824e3ff37
CATEGORIES:Community Events
CREATED:20251110T181156
SUMMARY:Home For The Holidays - LINDSAY HOME HARDWARE
LOCATION:Home Hardware Lindsay 207 Kent Street\, West\, Lindsay
DESCRIPTION:HOME FOR THE HOLIDAYS\nCHRISTMAS VENDOR MARKET &amp; CUSTOMER APPRECIATION 
 NIGHT\nTHURSDAY, NOVEMBER 27TH, 2025           5PM - 8PM\nLINDSAY HOME HARD
 WARE       207 KENT STREET WEST, LINDSAY\nJOIN US FOR A FESTIVE EXPERIENCE 
 FILLED WITH LOCAL VENDORS, HOLIDAY SHOPPING, RAFFLE PRIZES &amp; CUSTOMER A
 PPRECIATION 15% OFF IN STORE, IN STOCK REGULAR PRICE ITEMS, THAT NIGHT ONLY
 .\n
X-ALT-DESC;FMTTYPE=text/html:<p>HOME FOR THE HOLIDAYS</p><p>CHRISTMAS VENDOR MARKET &amp; CUSTOMER APPRE
 CIATION NIGHT</p><p>THURSDAY, NOVEMBER 27TH, 2025           5PM - 8PM</p><p
 >LINDSAY HOME HARDWARE       207 KENT STREET WEST, LINDSAY</p><p>JOIN US FO
 R A FESTIVE EXPERIENCE FILLED WITH LOCAL VENDORS, HOLIDAY SHOPPING, RAFFLE 
 PRIZES &amp; CUSTOMER APPRECIATION 15% OFF IN STORE, IN STOCK REGULAR PRICE
  ITEMS, THAT NIGHT ONLY.</p>
CONTACT:Tracy Beaudry
DTSTAMP:20260423T023543
DTSTART:20251127T170000
DTEND:20251127T200000
SEQUENCE:0
TRANSP:OPAQUE
END:VEVENT
END:VCALENDAR