BEGIN:VCALENDAR
VERSION:2.0
PRODID:-//jEvents 2.0 for Joomla//EN
CALSCALE:GREGORIAN
METHOD:PUBLISH
BEGIN:VEVENT
UID:eb3126df7fd5ab2e6060d180da4eb06b
CATEGORIES:Community Events
CREATED:20251111T004041
SUMMARY:Kawartha Potters Guild Holiday Show & Sale
LOCATION:933 Talwood Drive\, Ptbo
DESCRIPTION:The KPG 30th annual Holiday Show &amp; Sale will feature 24 local potters a
 t our Talwood Drive studio, formerly the Kingswood Community Centre. Come a
 nd shop Canadian hand-made pottery and support local artisans. Enjoy a trea
 t while you browse and chat with the potters who will be on hand to answer 
 questions. Find out about our classes, workshops and kids' summer camps, an
 d sign up for a mini "Try Clay" workshop to be held in early January to see
  if you might want to become a potter yourself! The sale runs for 3 days: F
 riday Nov. 14 10-7, Saturday Nov. 15 9-4, and Sunday Nov. 16 10-3. Free adm
 ission.\n
X-ALT-DESC;FMTTYPE=text/html:<p>The KPG 30th annual Holiday Show &amp; Sale will feature 24 local potter
 s at our Talwood Drive studio, formerly the Kingswood Community Centre. Com
 e and shop Canadian hand-made pottery and support local artisans. Enjoy a t
 reat while you browse and chat with the potters who will be on hand to answ
 er questions. Find out about our classes, workshops and kids' summer camps,
  and sign up for a mini "Try Clay" workshop to be held in early January to 
 see if you might want to become a potter yourself! The sale runs for 3 days
 : Friday Nov. 14 10-7, Saturday Nov. 15 9-4, and Sunday Nov. 16 10-3. Free 
 admission.</p>
CONTACT:Anne Normand
DTSTAMP:20260423T074500
DTSTART:20251114T100000
DTEND:20251116T150000
SEQUENCE:0
TRANSP:OPAQUE
END:VEVENT
END:VCALENDAR