BEGIN:VCALENDAR
VERSION:2.0
PRODID:-//jEvents 2.0 for Joomla//EN
CALSCALE:GREGORIAN
METHOD:PUBLISH
BEGIN:VEVENT
UID:ab9d63df830f3efbc5234d3028cac457
CATEGORIES:Community Events
CREATED:20251114T002800
SUMMARY:DECK THE PAWS Vendor Show for L.A.W.S
LOCATION:Lakefield Legion-10 Nicholls St\, Lakefield\, ON K0L 2H0
DESCRIPTION:DECK THE PAWS!\nA Christmas Vendor Show supporting Lakefield Animal Welfare
  Society (L.A.W.S.).\n \nLAKEFIELD LEGION\nSATURDAY, NOVEMBER 15\n10 AM - 3
  PM\n \nSupport L.A.W.S. by bringing a donation of pet food and receive an 
 entry for our vendor draws!\nShop local vendors and get a head start on you
 r\nChristmas list - all while helping our furry\nfriends at L.A.W.S!\n \n \
 n
X-ALT-DESC;FMTTYPE=text/html:<p>DECK THE PAWS!</p><p>A Christmas Vendor Show supporting Lakefield Animal
  Welfare Society (L.A.W.S.).</p><p>&nbsp;</p><p>LAKEFIELD LEGION</p><p>SATU
 RDAY, NOVEMBER 15</p><p>10 AM - 3 PM</p><p>&nbsp;</p><p>Support L.A.W.S. by
  bringing a donation of pet food and receive an entry for our vendor draws!
 </p><p>Shop local vendors and get a head start on your</p><p>Christmas list
  - all while helping our furry</p><p>friends at L.A.W.S!</p><p>&nbsp;</p><p
 >&nbsp;</p>
DTSTAMP:20260424T061641
DTSTART:20251115T100000
DTEND:20251115T150000
SEQUENCE:0
TRANSP:OPAQUE
END:VEVENT
END:VCALENDAR