BEGIN:VCALENDAR
VERSION:2.0
PRODID:-//jEvents 2.0 for Joomla//EN
CALSCALE:GREGORIAN
METHOD:PUBLISH
BEGIN:VEVENT
UID:54a8ff9879cf15c1133bb7b1cc9718cc
CATEGORIES:Community Events
CREATED:20251114T160224
SUMMARY:Michelle Bassie Brown Wildlife Slideshow and Talk
LOCATION:Boyd Building 21 Canal St. Bobcaygeon
DESCRIPTION:Join Michelle Bassie Brown for her photography wildlife slideshow and talk.
 \nThurs Nov 20th 7:00PM\nLimited Seating $10.00/person \nArt Room at the Bo
 yd Building 21 Canal St. Bobcaygeon\n \nTickets available at the Boyd Herit
 age Museum 705-738-9482\n
X-ALT-DESC;FMTTYPE=text/html:<p>Join Michelle Bassie Brown for her photography wildlife slideshow and ta
 lk.</p><p>Thurs Nov 20th 7:00PM</p><p>Limited Seating $10.00/person&nbsp;</
 p><p>Art Room at the Boyd Building 21 Canal St. Bobcaygeon</p><p>&nbsp;</p>
 <p>Tickets available at the Boyd Heritage Museum 705-738-9482</p>
CONTACT:This email address is being protected from spambots. You need JavaScript enabled to view it.
DTSTAMP:20260424T023944
DTSTART:20251120T190000
SEQUENCE:0
TRANSP:OPAQUE
END:VEVENT
END:VCALENDAR