BEGIN:VCALENDAR
VERSION:2.0
PRODID:-//jEvents 2.0 for Joomla//EN
CALSCALE:GREGORIAN
METHOD:PUBLISH
BEGIN:VEVENT
UID:9c650bbcedaf4dc3e3c04ea720bc5ad3
CATEGORIES:Community Events
CREATED:20251114T160625
SUMMARY:Tea and Talk: A celebration of War Brides 
LOCATION:21 Canal St. Bobcaygeon
DESCRIPTION:THE BOYD HERITAGE MUSEUM PRESENTS:\nTEA &amp; TALK: A CELEBRATION OF WAR BR
 IDES\n \nWednesday, November 26th \n1:00PM\n \n$20 PER PERSON\n \nEnjoy tea
  and dessert while learning the history of\nWar Brides as presented by Barb
  McFadzen.\n \nWar Brides wedding dresses will be on display from November 
 18th through December: Monday- Saturday 10:00am-1:00pm. \n \n21 CANAL STREE
 T, BOBCAYGECN\nWWW.THEBOYDMUSEUM.COM (WWW.THEBOYDMUSEUM.COM)\n705-738-9482\
 n \n \n
X-ALT-DESC;FMTTYPE=text/html:<p>THE BOYD HERITAGE MUSEUM PRESENTS:</p><p>TEA &amp; TALK: A CELEBRATION O
 F WAR BRIDES</p><p>&nbsp;</p><p>Wednesday, November 26th&nbsp;</p><p>1:00PM
 </p><p>&nbsp;</p><p>$20 PER PERSON</p><p>&nbsp;</p><p>Enjoy tea and dessert
  while learning the history of</p><p>War Brides as presented by Barb McFadz
 en.</p><p>&nbsp;</p><p>War Brides wedding dresses will be on display from N
 ovember 18th through December: Monday- Saturday 10:00am-1:00pm.&nbsp;</p><p
 >&nbsp;</p><p>21 CANAL STREET, BOBCAYGECN</p><p><a href="https://www.onthel
 ocks.ca/WWW.THEBOYDMUSEUM.COM">WWW.THEBOYDMUSEUM.COM</a></p><p>705-738-9482
 </p><p>&nbsp;</p><p>&nbsp;</p>
CONTACT:This email address is being protected from spambots. You need JavaScript enabled to view it.
DTSTAMP:20260423T023542
DTSTART:20251126T130000
SEQUENCE:0
TRANSP:OPAQUE
END:VEVENT
END:VCALENDAR