BEGIN:VCALENDAR
VERSION:2.0
PRODID:-//jEvents 2.0 for Joomla//EN
CALSCALE:GREGORIAN
METHOD:PUBLISH
BEGIN:VEVENT
UID:768e5cb82ed7798a2e9b366608803d47
CATEGORIES:Community Events
CREATED:20251114T202008
SUMMARY:Cordova Mines Santa Claus Parade 
LOCATION:Cordova Mines
DESCRIPTION:Bundle up and join us for a jolly good time — Santa is making his way throu
 gh Cordova! \n🛷 Parade Line-Up: Begins at 10:30am on Concession Rd. 1\n🎁 Af
 ter the Parade: Bring your letters and visit with Santa at the Community Ce
 ntre!\n☕️ Warm Up: Enjoy a hot bowl of chili and a toasty drink with a non-
 perishable food donation for the Havelock and Marmora Food Banks.\n📬Bring y
 our letters to Santa, and make sure your return address is on them! \n🎄 Wan
 t to be part of the parade? Register your float by contacting Lisa Howie at
 \n📞 613-472-3650 \n📧 This email address is being protected from spambots. Y
 ou need JavaScript enabled to view it.\nLet’s kick off the holiday season t
 ogether — see you there! 🎄 \n
X-ALT-DESC;FMTTYPE=text/html:<p>Bundle up and join us for a jolly good time — Santa is making his way th
 rough Cordova! </p><p>🛷 Parade Line-Up: Begins at 10:30am on Concession Rd.
  1<br />🎁 After the Parade: Bring your letters and visit with Santa at the 
 Community Centre!<br />☕️ Warm Up: Enjoy a hot bowl of chili and a toasty d
 rink with a non-perishable food donation for the Havelock and Marmora Food 
 Banks.<br />📬Bring your letters to Santa, and make sure your return address
  is on them! </p><p>🎄 Want to be part of the parade? Register your float by
  contacting Lisa Howie at<br />📞 613-472-3650 <br />📧 <joomla-hidden-mail  
 is-link="1" is-email="1" first="bGlzYS5ob3dpZTI=" last="Z21haWwuY29t" text=
 "bGlzYS5ob3dpZTJAZ21haWwuY29t" base="" >This email address is being protect
 ed from spambots. You need JavaScript enabled to view it.</joomla-hidden-ma
 il></p><p>Let’s kick off the holiday season together — see you there! 🎄 </p
 >
CONTACT:Call Lisa at 613-472-3650
DTSTAMP:20260422T200108
DTSTART:20251129T110000
DTEND:20251129T140000
SEQUENCE:0
TRANSP:OPAQUE
END:VEVENT
END:VCALENDAR