BEGIN:VCALENDAR
VERSION:2.0
PRODID:-//jEvents 2.0 for Joomla//EN
CALSCALE:GREGORIAN
METHOD:PUBLISH
BEGIN:VEVENT
UID:4285ff295ccbff46f9b71e57d44c8b25
CATEGORIES:Community Events
CREATED:20251115T152952
SUMMARY:The PSO for the Holidays: Quartom Sings Noël
LOCATION:Emmanuel United Church\, 534 George St N\, Peterborough
DESCRIPTION:The Peterborough Symphony Orchestra will add its unique gift to the holiday
  season with a concert that will appeal to everyone. The orchestra will off
 er a Family Holiday concert with the award-winning Québec vocal quartet, Qu
 artom. Under the inspirational leadership of Music Director, Michael Newnha
 m, the PSO will join them in providing an evening of warmth and beauty, inc
 luding music by Tchaikovsky and Bizet, as well as a variety of classic and 
 Canadian carols in English and French.\n \nCelebrate the spirit of the holi
 days by coming together in community and sharing the experience that only l
 ive music can give you. Why not bring the whole family and start a new holi
 day tradition? Tickets to this concert would make a unique holiday gift ide
 a too!\n \nThe concert begins at 7:30 p.m. at Emmanuel United Church. Seati
 ng is assigned, so please arrive early in order to locate your seat.  Hint:
  Consider bringing your most festive seat cushion to make your evening even
  more comfortable.\n \nDoors open to the public at 6:30pm. Please note that
  there is no pre-concert chat for this concert.\n \nVisit https://thepso.or
 g/quartom (https://thepso.org/quartom) where you can purchase tickets and c
 heck out Maestro Newnham’s curated Spotify playlist to get you in the mood 
 for this concert.\n
X-ALT-DESC;FMTTYPE=text/html:<p>The Peterborough Symphony Orchestra will add its unique gift to the holi
 day season with a concert that will appeal to everyone. The orchestra will 
 offer a Family Holiday concert with the award-winning Québec vocal quartet,
  Quartom. Under the inspirational leadership of Music Director, Michael New
 nham, the PSO will join them in providing an evening of warmth and beauty, 
 including music by Tchaikovsky and Bizet, as well as a variety of classic a
 nd Canadian carols in English and French.</p><p> </p><p>Celebrate the spiri
 t of the holidays by coming together in community and sharing the experienc
 e that only live music can give you. Why not bring the whole family and sta
 rt a new holiday tradition? Tickets to this concert would make a unique hol
 iday gift idea too!</p><p> </p><p>The concert begins at 7:30 p.m. at Emmanu
 el United Church. Seating is assigned, so please arrive early in order to l
 ocate your seat.  Hint: Consider bringing your most festive seat cushion to
  make your evening even more comfortable.</p><p> </p><p>Doors open to the p
 ublic at 6:30pm. Please note that there is no pre-concert chat for this con
 cert.</p><p> </p><p>Visit <a href="https://thepso.org/quartom">https://thep
 so.org/quartom</a> where you can purchase tickets and check out Maestro New
 nham’s curated Spotify playlist to get you in the mood for this concert.</p
 >
CONTACT:Monique Beneteau, This email address is being protected from spambots. You need JavaScript enabled to view it.
DTSTAMP:20260423T061630
DTSTART:20251206T193000
DTEND:20251206T220000
SEQUENCE:0
TRANSP:OPAQUE
END:VEVENT
END:VCALENDAR