BEGIN:VCALENDAR
VERSION:2.0
PRODID:-//jEvents 2.0 for Joomla//EN
CALSCALE:GREGORIAN
METHOD:PUBLISH
BEGIN:VEVENT
UID:fe334f851b22e7f521dcda34feddc5f5
CATEGORIES:Community Events
CREATED:20251118T162432
SUMMARY:Lakefield Annual Community Carol Sing
LOCATION:Lakefield United Church\, 47 Regent St Lakefield
DESCRIPTION:Lakefield Annual Community Carol Sing (https://lakefieldunitedchurch.ca/wp-
 content/uploads/2025/11/CarolSing.jpg)\n \n
X-ALT-DESC;FMTTYPE=text/html:<p><a title="Lakefield Annual Community Carol Sing" href="https://lakefield
 unitedchurch.ca/wp-content/uploads/2025/11/CarolSing.jpg" target="_blank" r
 el="noopener">Lakefield Annual Community Carol Sing</a></p><p> </p>
CONTACT:705-652-3126
X-EXTRAINFO:We’re excited to welcome everyone to our Lakefield Annual  Community Carol 
 Sing!\nHosted by the AOTS Men’s Club, this Christmas tradition brings our c
 ommunity together in song and celebration. Offerings from the evening will 
 support Community Care and Lakefield Youth Unlimited.\nIt’s a festive favou
 rite—please mark your calendars and join us as we kick off the holiday seas
 on together!\nSunday November 30th at 7pm\nLakefield United Church\n47 Rege
 nt St, Lakefield
DTSTAMP:20260422T163127
DTSTART:20251130T190000
DTEND:20251130T210000
SEQUENCE:0
TRANSP:OPAQUE
END:VEVENT
END:VCALENDAR