BEGIN:VCALENDAR
VERSION:2.0
PRODID:-//jEvents 2.0 for Joomla//EN
CALSCALE:GREGORIAN
METHOD:PUBLISH
BEGIN:VEVENT
UID:721fd45f103aec272ee61a7641a9f2ae
CATEGORIES:Community Events
CREATED:20251118T201324
SUMMARY:GPHSF Charity Bonspiel with Imprinted Apparel
LOCATION:Peterborough Curling Club
DESCRIPTION:Support the Greater Peterborough Health Services Foundation Saturday Februa
 ry 14th 2026 at the Peterborough Curling Club.  Your registration includes 
 Breakfast and Lunch, 2 games, and a $60 tax receipt. \nYou’ll also have the
  opportunity to win your share of $3000 in prizes from Imprinted Apparel St
 ore and Goldline.  A sample of the prizes include\n-  4 new Goldline brooms
  for your team – with design done by Emma Miskew!\n- broom bags, safety hea
 d wear, gloves, brush heads, grippers, and more.\nGuaranteed to be one of t
 he best prize tables you’ve seen at a Bonspiel!  Every team will walk away 
 with something!\nPlus, win cash by knowing your trivia, play cornhole, take
  part in the Chuck A Rock Contest and win great raffle items.\nAll while yo
 u are supporting health equity and community-based healthcare.\nFind out mo
 re and register at.  https://www.gphsf.ca/events/gphsfcharitybonspiel/ (htt
 ps://www.gphsf.ca/events/gphsfcharitybonspiel/)\n
X-ALT-DESC;FMTTYPE=text/html:<p>Support the Greater Peterborough Health Services Foundation Saturday Feb
 ruary 14th 2026 at the Peterborough Curling Club.  Your registration includ
 es Breakfast and Lunch, 2 games, and a $60 tax receipt. </p><p>You’ll also 
 have the opportunity to win your share of $3000 in prizes from Imprinted Ap
 parel Store and Goldline.  A sample of the prizes include</p><p>-  4 new Go
 ldline brooms for your team – with design done by Emma Miskew!</p><p>- broo
 m bags, safety head wear, gloves, brush heads, grippers, and more.</p><p>Gu
 aranteed to be one of the best prize tables you’ve seen at a Bonspiel!  Eve
 ry team will walk away with something!</p><p>Plus, win cash by knowing your
  trivia, play cornhole, take part in the Chuck A Rock Contest and win great
  raffle items.</p><p>All while you are supporting health equity and communi
 ty-based healthcare.</p><p>Find out more and register at.  <a href="https:/
 /www.gphsf.ca/events/gphsfcharitybonspiel/">https://www.gphsf.ca/events/gph
 sfcharitybonspiel/</a></p>
CONTACT:Vince Bierworth
DTSTAMP:20260422T132212
DTSTART:20260214T080000
DTEND:20260214T170000
SEQUENCE:0
TRANSP:OPAQUE
END:VEVENT
END:VCALENDAR