BEGIN:VCALENDAR
VERSION:2.0
PRODID:-//jEvents 2.0 for Joomla//EN
CALSCALE:GREGORIAN
METHOD:PUBLISH
BEGIN:VEVENT
UID:8c311656f835d66365fac19c2ac99aad
CATEGORIES:Community Events
CREATED:20251118T201735
SUMMARY:Darkness To Light
LOCATION:Entrance to Del Crary Park
DESCRIPTION:The 5th annual Darkness To Light is Sunday December 21st, with the purpose 
 of supporting those impacted by suicide and overdose.  It is a sunrise gath
 ering on the shortest day of the year symbolizing brighter days ahead.  Jul
 ie Brown is returning once again to lead the ceremony.  The event has a new
  location this year.  Please join us at the entrance to Del Crary Park at R
 ink and George Streets.\nThe Darkness to Light is free to attend thanks to 
 the generosity of Seven Hills Developments.  Donations are encouraged if yo
 u are able.  All money raised will support Hospice Peterborough Suicide and
  Overdose bereavement programming. \nRegistration is not required, but it i
 s encouraged.  Donations can be made and registration completed through www
 .gphsf.ca/events/darknesstolight-2/ (http://www.gphsf.ca/events/darknesstol
 ight-2/)\n
X-ALT-DESC;FMTTYPE=text/html:<p>The 5<sup>th</sup> annual Darkness To Light is Sunday December 21<sup>st
 </sup>, with the purpose of supporting those impacted by suicide and overdo
 se.  It is a sunrise gathering on the shortest day of the year symbolizing 
 brighter days ahead.  Julie Brown is returning once again to lead the cerem
 ony.  The event has a new location this year.  Please join us at the entran
 ce to Del Crary Park at Rink and George Streets.</p><p>The Darkness to Ligh
 t is free to attend thanks to the generosity of Seven Hills Developments.  
 Donations are encouraged if you are able.  All money raised will support Ho
 spice Peterborough Suicide and Overdose bereavement programming. </p><p>Reg
 istration is not required, but it is encouraged.  Donations can be made and
  registration completed through <a href="http://www.gphsf.ca/events/darknes
 stolight-2/">www.gphsf.ca/events/darknesstolight-2/</a></p>
CONTACT:Vince Bierworth
DTSTAMP:20260424T042204
DTSTART:20251221T071500
DTEND:20251221T074500
SEQUENCE:0
TRANSP:OPAQUE
END:VEVENT
END:VCALENDAR