BEGIN:VCALENDAR
VERSION:2.0
PRODID:-//jEvents 2.0 for Joomla//EN
CALSCALE:GREGORIAN
METHOD:PUBLISH
BEGIN:VEVENT
UID:9856ef4addd784f2c1f05590d1c04779
CATEGORIES:Community Events
CREATED:20251120T235619
SUMMARY:Kenner’s Twinkling Tuesday Craft & Vendor Show
LOCATION:Kenner - 633 Monaghan Rd
DESCRIPTION:This event fundraiser is for the school trip March break of 2026 to help co
 ver incidentals (transportation to/from airport etc)\nThere will be a large
  variety of vendors to come and check out.\nWhat a perfect way to support l
 ocal AND get a little Christmas shopping done!!\nThere will be a large tabl
 e of Kenner students there selling their craft items also 🙂\nA raffle table
  will be set up – raffle table will be CASH ONLY\nTickets are 3 for $5 or 1
 0 for $10\n
X-ALT-DESC;FMTTYPE=text/html:<p>This event fundraiser is for the school trip March break of 2026 to help
  cover incidentals (transportation to/from airport etc)</p><p>There will be
  a large variety of vendors to come and check out.<br />What a perfect way 
 to support local AND get a little Christmas shopping done!!</p><p>There wil
 l be a large table of Kenner students there selling their craft items also 
 🙂</p><p>A raffle table will be set up – raffle table will be CASH ONLY<br /
 >Tickets are 3 for $5 or 10 for $10</p>
CONTACT:Donna Reid
X-EXTRAINFO:Interested in being a vendor? \nEmail This email address is being protected
  from spambots. You need JavaScript enabled to view it.
DTSTAMP:20260424T082713
DTSTART:20251209T160000
DTEND:20251209T210000
SEQUENCE:0
TRANSP:OPAQUE
END:VEVENT
END:VCALENDAR