BEGIN:VCALENDAR
VERSION:2.0
PRODID:-//jEvents 2.0 for Joomla//EN
CALSCALE:GREGORIAN
METHOD:PUBLISH
BEGIN:VEVENT
UID:9aa97018736f56b3e581bf5fa58311b2
CATEGORIES:Community Events
CREATED:20251122T064031
SUMMARY:Dec 6 Hometown Peterborough The Bowie Lives Showplace Performance
LOCATION:Showplace Performance Centre Peterborough
DESCRIPTION:Dec 6 2025  7pm doors and show time 730pmShowplace Performance Centre Georg
 e St Peterborough and Outshout Entertainment presents The Bowie Lives: A Bo
 wie Spectacular - Canada's Sensational Tribute to David Bowie.  Featuring M
 arsala Lukianchuk as Annie Lennox on iconic hit, UNDER PRESSURE.  Tickets o
 n sale nowhttps://secure1.tixhub.com/showplace/online/b_otix.asp?cboPerform
 ances=367&amp;cboEvent=265&amp;width= We're especially thrilled to be joine
 d by singing sensation, Marsala Lukianchuk, as our Annie Lennox; she was ou
 r very first Annie! (Picture attached from 2020!)  Whether singing with her
  jazz, rock, or Irish folk bands, or acting on stage or screen, Marsala’s p
 assion is in story-telling. You may have seen her recently perform as the W
 itch in Into the Woods, or as Reno Sweeney in Anything Goes. She is thrille
 d to play a small part in bringing the story of David Bowie to the Showplac
 e stage where she will transform into Annie Lennox while performing the ico
 nic hit, UNDER PRESSURE with Michael Bell and the 8 piece stellar band. www
 .facebook.com/MarsalaLukianchukMusicThe Bowie Lives is a musical tribute to
  the legendary David Bowie, led by Canadian performer Michael Bell.  Bell i
 s known for his uncanny ability to emulate Bowie’s vocal style and stage pr
 esence, earning acclaim for his dedication to authenticity and detail. The 
 show celebrates Bowie’s career, featuring ionic hits like Space Oddity, Her
 oes, and Let’s Dance.https://www.youtube.com/watch?v=GcjjUehwk7EMichael Bel
 l has been praised for his interpretation of Bowie’s music and his theatric
 al delivery, making the experience more than just a concert-it’s a vivid re
 creation of Bowie’s artistic spirit. The tribute band also incorporates Bow
 ie’s flamboyant costumes, intricate arrangements, and multimedia visuals to
  capture the essence of his legendary performances.Michael discovered Bowie
  as a teen and performed songs with a number of his early bands.  By the ‘8
 0s his first theatrical production “ChangesAllBowie” toured the “A circuit”
  before hanging up his “Ziggy” in the early ‘90s.  Decades passed.  After D
 avid’s untimely death on January 10 2016, Michael’s calling returned; his c
 alling to honour the man who helped shape his life.“5 Stars! Unbelievable! 
 I could have watched them for two more hours!” says Richard Crouse, Host of
  CTV PopLife. “ By far, the best &amp; coolest Bowie Tribute I’ve seen!” sa
 ys Sam Grosso of Cadillac Productions.“As close as it gets!” says MusikMira
 geThe Bowie Lives PRE-SHOW includes the Bowie Bazaar; T-shirts, collectable
 s, LP’s and DVD’s  and more.  Come in costume dressed as your favourite Dav
 id, or wear your favourite swag and be rewarded! Don’t forget to grab a but
 ton!Michael is also the subject  of an upcoming documentary film “Being Dav
 id Bowie” and web-series “The Bowie Lives.”More information visit www.thebo
 wielives.com
X-ALT-DESC;FMTTYPE=text/html:<div dir="ltr" style="outline: none !important; color: #1d2228; font-family
 : verdana, helvetica, sans-serif; font-size: 16px; font-style: normal; font
 -weight: 400; letter-spacing: normal; text-indent: 0px; text-transform: non
 e; word-spacing: 0px; background-color: #ffffff; text-decoration-style: ini
 tial; text-decoration-color: initial;" align="center"><span style="color: #
 cd232c;">Dec 6 2025 </span></div><div dir="ltr" style="outline: none !impor
 tant; color: #1d2228; font-family: verdana, helvetica, sans-serif; font-siz
 e: 16px; font-style: normal; font-weight: 400; letter-spacing: normal; text
 -indent: 0px; text-transform: none; word-spacing: 0px; background-color: #f
 fffff; text-decoration-style: initial; text-decoration-color: initial;" ali
 gn="center"> </div><div dir="ltr" style="outline: none !important; color: #
 1d2228; font-family: verdana, helvetica, sans-serif; font-size: 16px; font-
 style: normal; font-weight: 400; letter-spacing: normal; text-indent: 0px; 
 text-transform: none; word-spacing: 0px; background-color: #ffffff; text-de
 coration-style: initial; text-decoration-color: initial;"><div style="outli
 ne: none !important;"><div align="center">7pm doors and show time 730pm<br 
 style="outline: none !important;" />Showplace Performance Centre George St 
 Peterborough and Outshout Entertainment presents <span style="color: #cd232
 c;"><b>The Bowie Lives: A Bowie Spectacular - Canada's Sensational Tribute 
 to David Bowie.  </b></span>Featuring Marsala Lukianchuk as Annie Lennox on
  iconic hit, UNDER PRESSURE.  Tickets on sale now<br style="outline: none !
 important;" /><a href="https://secure1.tixhub.com/showplace/online/b_otix.a
 sp?cboPerformances=367&amp;cboEvent=265&amp;width=" target="_blank" rel="no
 follow noopener noreferrer">https://secure1.tixhub.com/showplace/online/b_o
 tix.asp?cboPerformances=367&amp;cboEvent=265&amp;width=</a> </div><br style
 ="outline: none !important;" /><div align="center">We're especially thrille
 d to be joined by singing sensation, Marsala Lukianchuk, as our Annie Lenno
 x; she was our very first Annie! (Picture attached from 2020!)  Whether sin
 ging with her jazz, rock, or Irish folk bands, or acting on stage or screen
 , Marsala’s passion is in story-telling. You may have seen her recently per
 form as the Witch in Into the Woods, or as Reno Sweeney in Anything Goes. S
 he is thrilled to play a small part in bringing the story of David Bowie to
  the Showplace stage where she will transform into Annie Lennox while perfo
 rming the iconic hit, UNDER PRESSURE with Michael Bell and the 8 piece stel
 lar band. <br style="outline: none !important;" />www.facebook.com/MarsalaL
 ukianchukMusic</div><br style="outline: none !important;" /><div align="cen
 ter">The Bowie Lives is a musical tribute to the legendary David Bowie, led
  by Canadian performer Michael Bell.  Bell is known for his uncanny ability
  to emulate Bowie’s vocal style and stage presence, earning acclaim </div><
 div align="center">for his dedication to authenticity and detail. </div><br
  style="outline: none !important;" /><div align="center">The show celebrate
 s Bowie’s career, featuring ionic hits like Space Oddity, Heroes, and Let’s
  Dance.</div><br style="outline: none !important;" /><div align="center">ht
 tps://www.youtube.com/watch?v=GcjjUehwk7E<br style="outline: none !importan
 t;" /><br style="outline: none !important;" />Michael Bell has been praised
  for his interpretation of Bowie’s music and his theatrical delivery, makin
 g the experience more than just a concert-it’s a vivid recreation of Bowie’
 s artistic spirit. The tribute band also incorporates Bowie’s flamboyant co
 stumes, intricate arrangements, and multimedia visuals to capture the essen
 ce of his legendary performances.</div><br style="outline: none !important;
 " /><div align="center">Michael discovered Bowie as a teen and performed so
 ngs with a number of his early bands.  By the ‘80s his first theatrical pro
 duction “ChangesAllBowie” toured the “A circuit” before hanging up his “Zig
 gy” in the early ‘90s.  Decades passed.  After David’s untimely death on Ja
 nuary 10 2016, Michael’s calling returned; his calling to honour the man wh
 o helped shape his life.</div><br style="outline: none !important;" /><div 
 align="center">“5 Stars! Unbelievable! I could have watched them for two mo
 re hours!” says Richard Crouse, Host of CTV PopLife. <br style="outline: no
 ne !important;" /><br style="outline: none !important;" />“ By far, the bes
 t &amp; coolest Bowie Tribute I’ve seen!” says Sam Grosso of Cadillac Produ
 ctions.<br style="outline: none !important;" /><br style="outline: none !im
 portant;" />“As close as it gets!” says MusikMirage<br style="outline: none
  !important;" /><br style="outline: none !important;" />The Bowie Lives PRE
 -SHOW includes the Bowie Bazaar; T-shirts, collectables, LP’s and DVD’s  an
 d more.  </div><br style="outline: none !important;" /><div align="center">
 Come in costume dressed as your favourite David, or wear your favourite swa
 g and be rewarded! <br style="outline: none !important;" /><br style="outli
 ne: none !important;" />Don’t forget to grab a button!<br style="outline: n
 one !important;" /><br style="outline: none !important;" />Michael is also 
 the subject  of an upcoming documentary film “Being David Bowie” and web-se
 ries “The Bowie Lives.”</div><br style="outline: none !important;" /><div a
 lign="center">More information visit www.thebowielives.com</div></div></div
 >
CONTACT:Michael Bell
DTSTAMP:20260423T062005
DTSTART:20251206T190000
DTEND:20251206T220000
SEQUENCE:0
TRANSP:OPAQUE
END:VEVENT
END:VCALENDAR