BEGIN:VCALENDAR
VERSION:2.0
PRODID:-//jEvents 2.0 for Joomla//EN
CALSCALE:GREGORIAN
METHOD:PUBLISH
BEGIN:VEVENT
UID:207febfc4ac4a94d3894061586362c2b
CATEGORIES:Community Events
CREATED:20251124T151308
SUMMARY: Ornament Swap Lindsay Library Branch
LOCATION:Lindsay Library Branch
DESCRIPTION:Looking to refresh your holiday décor or find a special piece to add to you
 r collection? Bring in ornaments you no longer use and take home something 
 new! All ornaments should be in good condition (no broken pieces, please). 
 No ornaments to swap? No problem, stop by and pick out something you love a
 nyway! Any remaining ornaments after 2:30pm will be donated. This is a free
 , drop-in event, and all ages are welcome!\n
X-ALT-DESC;FMTTYPE=text/html:<p>Looking to refresh your holiday décor or find a special piece to add to 
 your collection? Bring in ornaments you no longer use and take home somethi
 ng new! All ornaments should be in good condition (no broken pieces, please
 ). No ornaments to swap? No problem, stop by and pick out something you lov
 e anyway! Any remaining ornaments after 2:30pm will be donated. This is a f
 ree, drop-in event, and all ages are welcome!</p>
DTSTAMP:20260422T163200
DTSTART:20251205T103000
DTEND:20251205T143000
SEQUENCE:0
TRANSP:OPAQUE
END:VEVENT
END:VCALENDAR