BEGIN:VCALENDAR
VERSION:2.0
PRODID:-//jEvents 2.0 for Joomla//EN
CALSCALE:GREGORIAN
METHOD:PUBLISH
BEGIN:VEVENT
UID:0beb61ac39f551e9afc45044ed25e5f8
CATEGORIES:Community Events
CREATED:20251124T151433
SUMMARY:Ornament Swap Omemee Library Branch
LOCATION:Omemee Library Branch
DESCRIPTION:Looking to refresh your holiday décor or find a special piece to add to you
 r collection? Bring in ornaments you no longer use and take home something 
 new! All ornaments should be in good condition (no broken pieces, please). 
 No ornaments to swap? No problem, stop by and pick out something you love a
 nyway! Any remaining ornaments after 2:30pm will be donated. This is a free
 , drop-in event, and all ages are welcome!\n
X-ALT-DESC;FMTTYPE=text/html:<p>Looking to refresh your holiday décor or find a special piece to add to 
 your collection? Bring in ornaments you no longer use and take home somethi
 ng new! All ornaments should be in good condition (no broken pieces, please
 ). No ornaments to swap? No problem, stop by and pick out something you lov
 e anyway! Any remaining ornaments after 2:30pm will be donated. This is a f
 ree, drop-in event, and all ages are welcome!</p>
X-EXTRAINFO:24 King St. E. Omemee
DTSTAMP:20260422T163255
DTSTART:20251206T103000
DTEND:20251206T143000
SEQUENCE:0
TRANSP:OPAQUE
END:VEVENT
END:VCALENDAR