BEGIN:VCALENDAR
VERSION:2.0
PRODID:-//jEvents 2.0 for Joomla//EN
CALSCALE:GREGORIAN
METHOD:PUBLISH
BEGIN:VEVENT
UID:a3862e2dec003fc7c9c9e5f144a3ac9e
CATEGORIES:Community Events
CREATED:20251124T151643
SUMMARY:Write with Us Workshop at the Lindsay Branch
LOCATION:Lindsay Library Branch
DESCRIPTION:Join the Writers Collective of Canada for inspiring writing workshops. This
  free series is open to older teens, adults, and seniors, no experience nee
 ded.\n
X-ALT-DESC;FMTTYPE=text/html:<p>Join the Writers Collective of Canada for inspiring writing workshops. T
 his free series is open to older teens, adults, and seniors, no experience 
 needed.</p>
DTSTAMP:20260423T023611
DTSTART:20251127T133000
DTEND:20251127T150000
SEQUENCE:0
TRANSP:OPAQUE
END:VEVENT
END:VCALENDAR