BEGIN:VCALENDAR
VERSION:2.0
PRODID:-//jEvents 2.0 for Joomla//EN
CALSCALE:GREGORIAN
METHOD:PUBLISH
BEGIN:VEVENT
UID:d1bfbfc408e6af99d5a8abfbda123f62
CATEGORIES:Community Events
CREATED:20251127T160516
SUMMARY:Scrapbook Drop-In at the Lindsay Branch
LOCATION:Lindsay Library Branch
DESCRIPTION:Bring your photos, memories, and creativity to life! Join fellow scrapbooke
 rs for a relaxed, social time to work on your projects, share ideas, and ge
 t inspired. All levels of experience are welcome. Please bring your own sup
 plies. All paper crafts welcomed. \n
X-ALT-DESC;FMTTYPE=text/html:<p><span class="a_GcMg font-feature-liga-off font-feature-clig-off font-fea
 ture-calt-off text-decoration-none text-strikethrough-none" style="color: r
 gba(0,0,0,var(--o42jjq,1)); caret-color: #000000; --ys-xuq: none; font-weig
 ht: 400; font-style: normal; font-kerning: none;" data-mce-fragment="1">Bri
 ng your photos, memories, and creativity to life! Join fellow scrapbookers 
 for a relaxed, social time to work on your projects, share ideas, and get i
 nspired. All levels of experience are welcome. Please bring your own suppli
 es. All paper crafts welcomed.</span><span class="a_GcMg font-feature-liga-
 off font-feature-clig-off font-feature-calt-off text-decoration-none text-s
 trikethrough-none white-space-prewrap" style="color: rgba(0,0,0,var(--o42jj
 q,1)); caret-color: #000000; --ys-xuq: none; font-weight: 400; font-style: 
 normal; font-kerning: none;" data-mce-fragment="1"> </span></p>
CONTACT:705-324-9411 ext. 1332
X-EXTRAINFO:190 Kent Street W. Lindsay, ON
DTSTAMP:20260422T232415
DTSTART:20251128T103000
DTEND:20251128T143000
SEQUENCE:0
TRANSP:OPAQUE
END:VEVENT
END:VCALENDAR