BEGIN:VCALENDAR
VERSION:2.0
PRODID:-//jEvents 2.0 for Joomla//EN
CALSCALE:GREGORIAN
METHOD:PUBLISH
BEGIN:VEVENT
UID:e9d12f9215c54d8270ee7c2c7e5e9e88
CATEGORIES:Community Events
CREATED:20251127T160914
SUMMARY:Scrapbook Drop-In at the Lindsay Branch
LOCATION:Lindsay Library Branch
DESCRIPTION:Bring your photos, memories, and creativity to life! Join fellow scrapbooke
 rs for a relaxed, social time to work on your projects, share ideas, and ge
 t inspired. All levels of experience are welcome. Please bring your own sup
 plies. All paper crafts welcomed. \nEvery 2nd and 4th Friday of the month!\
 n
X-ALT-DESC;FMTTYPE=text/html:<p>Bring your photos, memories, and creativity to life! Join fellow scrapbo
 okers for a relaxed, social time to work on your projects, share ideas, and
  get inspired. All levels of experience are welcome. Please bring your own 
 supplies. All paper crafts welcomed. </p><p>Every 2nd and 4th Friday of the
  month!</p>
CONTACT:705-324-9411 ext. 1332
X-EXTRAINFO:190 Kent Street W. Lindsay, ON
DTSTAMP:20260424T042255
DTSTART:20251212T103000
DTEND:20251212T143000
SEQUENCE:0
TRANSP:OPAQUE
END:VEVENT
END:VCALENDAR