BEGIN:VCALENDAR
VERSION:2.0
PRODID:-//jEvents 2.0 for Joomla//EN
CALSCALE:GREGORIAN
METHOD:PUBLISH
BEGIN:VEVENT
UID:675537df2c17fc1a9c03e21f79263af5
CATEGORIES:Community Events
CREATED:20251127T161157
SUMMARY:2026 Noon Year Eve Party - Lindsay Library Branch
LOCATION:Lindsay Library Branch
DESCRIPTION:Celebrate the New Year early at our family-friendly Noon Year’s Eve party! 
 Join us for a festive countdown to 12:00 PM, perfect for kids who can’t sta
 y up until midnight but still want to enjoy the excitement of the holiday.\
 n
X-ALT-DESC;FMTTYPE=text/html:<p>Celebrate the New Year early at our family-friendly Noon Year’s Eve part
 y! Join us for a festive countdown to 12:00 PM, perfect for kids who can’t 
 stay up until midnight but still want to enjoy the excitement of the holida
 y.</p>
CONTACT:705-324-9411 ext. 1332
X-EXTRAINFO:190 Kent Street West, Lindsay
DTSTAMP:20260422T213430
DTSTART:20251231T110000
DTEND:20251231T123000
SEQUENCE:0
TRANSP:OPAQUE
END:VEVENT
END:VCALENDAR