BEGIN:VCALENDAR
VERSION:2.0
PRODID:-//jEvents 2.0 for Joomla//EN
CALSCALE:GREGORIAN
METHOD:PUBLISH
BEGIN:VEVENT
UID:db51b5feef858792b1f993867e034d38
CATEGORIES:Community Events
CREATED:20251127T162411
SUMMARY:Connecting Seniors: Connecting Today
LOCATION:Lindsay Library Branch
DESCRIPTION:Connecting Today is a hands-on program designed to help you stay connected 
 in the digital age! Learn how to use popular social media platforms like Fa
 cebook, Instagram, and messaging apps to keep in touch with friends and fam
 ily near and far. We’ll also cover important tips on recognizing online sca
 ms, protecting your personal information, and staying safe while socializin
 g online. Registration is required, please contact the branch to sign up. \
 nGuest Speaker: Kevin Walden from Kawartha Lakes Police Service\nFree progr
 am at the Lindsay library branch. \n
X-ALT-DESC;FMTTYPE=text/html:<p>Connecting Today is a hands-on program designed to help you stay connect
 ed in the digital age! Learn how to use popular social media platforms like
  Facebook, Instagram, and messaging apps to keep in touch with friends and 
 family near and far. We’ll also cover important tips on recognizing online 
 scams, protecting your personal information, and staying safe while sociali
 zing online. Registration is required, please contact the branch to sign up
 . </p><p>Guest Speaker: Kevin Walden from Kawartha Lakes Police Service</p>
 <p>Free program at the Lindsay library branch. </p>
CONTACT:705-324-9411 ext. 1332
DTSTAMP:20260422T131854
DTSTART:20260204T103000
DTEND:20260204T143000
SEQUENCE:0
TRANSP:OPAQUE
END:VEVENT
END:VCALENDAR