BEGIN:VCALENDAR
VERSION:2.0
PRODID:-//jEvents 2.0 for Joomla//EN
CALSCALE:GREGORIAN
METHOD:PUBLISH
BEGIN:VEVENT
UID:50d75be45bcd8b22b95553d7dacbfd50
CATEGORIES:Community Events
CREATED:20251127T162535
SUMMARY:Connecting Seniors: Connecting to the Past
LOCATION:Lindsay Library Branch
DESCRIPTION:Learn how to protect your important papers and treasured photos. This hands
 -on workshop covers simple ways to store, organize, and preserve documents 
 and photographs, plus easy methods for digitizing and backing them up. Idea
 l for anyone managing personal records, family history, or keepsakes. Regis
 tration is required, please contact the branch. \nGuest Speaker: Angela For
 nelli, Manager, Corporate Records and Archival Services / Municipal Archivi
 st Clerk’s Office, City of Kawartha Lakes\nFree program at the Lindsay libr
 ary branch. \n
X-ALT-DESC;FMTTYPE=text/html:<p>Learn how to protect your important papers and treasured photos. This ha
 nds-on workshop covers simple ways to store, organize, and preserve documen
 ts and photographs, plus easy methods for digitizing and backing them up. I
 deal for anyone managing personal records, family history, or keepsakes. Re
 gistration is required, please contact the branch. </p><p>Guest Speaker: An
 gela Fornelli, Manager, Corporate Records and Archival Services / Municipal
  Archivist Clerk’s Office, City of Kawartha Lakes</p><p>Free program at the
  Lindsay library branch. </p>
CONTACT:705-324-9411 ext. 1332
DTSTAMP:20260422T131819
DTSTART:20260211T103000
DTEND:20260211T143000
SEQUENCE:0
TRANSP:OPAQUE
END:VEVENT
END:VCALENDAR