BEGIN:VCALENDAR
VERSION:2.0
PRODID:-//jEvents 2.0 for Joomla//EN
CALSCALE:GREGORIAN
METHOD:PUBLISH
BEGIN:VEVENT
UID:1795307c3ec8073cfd22f48cbd5e6b32
CATEGORIES:Community Events
CREATED:20251127T162649
SUMMARY:Connecting Seniors: Listening Party 
LOCATION:Lindsay Library Branch
DESCRIPTION:Bring your favorite vinyl records and memorabilia for a nostalgic Listening
  Party! Seniors are invited to share their tunes, swap stories, and enjoy a
  format conversion session to help preserve their favorite records digitall
 y. Participants will also craft a shadowbox display to showcase their treas
 ured artifacts and memories. Come spin some classics, make new friends, and
  celebrate the music that shaped your life! Registration is required, pleas
 e contact the branch. \nGuest Speaker: Laura Love from City of Kawartha Lak
 es Curatorial Services.\nFree program at the Lindsay library branch. \n
X-ALT-DESC;FMTTYPE=text/html:<p><span class="a_GcMg font-feature-liga-off font-feature-clig-off font-fea
 ture-calt-off text-decoration-none text-strikethrough-none" style="color: r
 gba(0,0,0,var(--o42jjq,1)); caret-color: #000000; --ys-xuq: none; font-weig
 ht: 400; font-style: normal; font-kerning: none;" data-mce-fragment="1">Bri
 ng your favorite vinyl records and memorabilia for a nostalgic Listening Pa
 rty! Seniors are invited to share their tunes, swap stories, and enjoy a fo
 rmat conversion session to help preserve their favorite records digitally. 
 Participants will also craft a shadowbox display to showcase their treasure
 d artifacts and memories. Come spin some classics, make new friends, and ce
 lebrate the music that shaped your life! Registration is required, please c
 ontact the branch.</span><span class="a_GcMg font-feature-liga-off font-fea
 ture-clig-off font-feature-calt-off text-decoration-none text-strikethrough
 -none white-space-prewrap" style="color: rgba(0,0,0,var(--o42jjq,1)); caret
 -color: #000000; --ys-xuq: none; font-weight: 400; font-style: normal; font
 -kerning: none;" data-mce-fragment="1"> </span></p><p data-mce-fragment="1"
 >Guest Speaker: Laura Love from City of Kawartha Lakes Curatorial Services.
 </p><p data-mce-fragment="1">Free program at the Lindsay library branch. </
 p>
CONTACT:705-324-9411 ext. 1332
DTSTAMP:20260423T025557
DTSTART:20260218T103000
DTEND:20260218T143000
SEQUENCE:0
TRANSP:OPAQUE
END:VEVENT
END:VCALENDAR