BEGIN:VCALENDAR
VERSION:2.0
PRODID:-//jEvents 2.0 for Joomla//EN
CALSCALE:GREGORIAN
METHOD:PUBLISH
BEGIN:VEVENT
UID:149132a1ab2dca3e2cc79019424b6e6f
CATEGORIES:Community Events
CREATED:20251127T162823
SUMMARY:Connecting Seniors: Connecting to Library Resources
LOCATION:Lindsay Library Branch
DESCRIPTION:Discover how your library can help you explore the past and preserve person
 al history.\nLearn about key resources for researching local history, genea
 logy, and memory preservation, including collections, databases, and digiti
 zation tools available through the library. Registration is required, pleas
 e contact the branch.\nFree program at the Lindsay library branch. \n
X-ALT-DESC;FMTTYPE=text/html:<p>Discover how your library can help you explore the past and preserve per
 sonal history.</p><p>Learn about key resources for researching local histor
 y, genealogy, and memory preservation, including collections, databases, an
 d digitization tools available through the library. Registration is require
 d, please contact the branch.</p><p><span style="font-size: 14pt;">Free pro
 gram at the Lindsay library branch. </span></p>
CONTACT:705-324-9411 ext. 1332
DTSTAMP:20260424T042152
DTSTART:20260225T103000
DTEND:20260225T143000
SEQUENCE:0
TRANSP:OPAQUE
END:VEVENT
END:VCALENDAR