BEGIN:VCALENDAR
VERSION:2.0
PRODID:-//jEvents 2.0 for Joomla//EN
CALSCALE:GREGORIAN
METHOD:PUBLISH
BEGIN:VEVENT
UID:4955d717271bafc6169479e8df6908e1
CATEGORIES:Community Events
CREATED:20251128T175554
SUMMARY:Breakfast with Santa!
LOCATION:St. Paul's Anglican Church\, Lindsay
DESCRIPTION:Come join us &amp; jolly old St. Nicholas as he takes a break from the work
 shop on Sat. Dec. 13th 9am - 11:30am in the hall at St. Paul's Anglican Chu
 rch, 45 Russell St. W., Lindsay.  Breakfast includes pancakes, sausages, sc
 rambled eggs, hot chocolate, juice, tea or coffee.  Plus a chance to visit 
 with Santa!  Note:  All children must be supervised by an adult.  Tickets: 
  Adults $15, Kids $10.  \n
X-ALT-DESC;FMTTYPE=text/html:<p>Come join us &amp; jolly old St. Nicholas as he takes a break from the w
 orkshop on Sat. Dec. 13th 9am - 11:30am in the hall at St. Paul's Anglican 
 Church, 45 Russell St. W., Lindsay.  Breakfast includes pancakes, sausages,
  scrambled eggs, hot chocolate, juice, tea or coffee.  Plus a chance to vis
 it with Santa!  Note:  All children must be supervised by an adult.  Ticket
 s:  Adults $15, Kids $10.  </p>
CONTACT:Church office: 705 324-4666
X-EXTRAINFO:Tickets available from the church office.  (advanced sales only)
DTSTAMP:20260424T042151
DTSTART:20251213T090000
DTEND:20251213T113000
SEQUENCE:0
TRANSP:OPAQUE
END:VEVENT
END:VCALENDAR