BEGIN:VCALENDAR
VERSION:2.0
PRODID:-//jEvents 2.0 for Joomla//EN
CALSCALE:GREGORIAN
METHOD:PUBLISH
BEGIN:VEVENT
UID:d78d917598b56accdaab62a0a2273f66
CATEGORIES:Community Events
CREATED:20251128T225207
SUMMARY:Good Lovelies Holiday Concert
LOCATION:Showplace Performance Centre\, 290 George St N\, Peterborough\, ON
DESCRIPTION:Good Lovelies’ much-loved Christmas tour returns to Peterborough this Decem
 ber, bringing holiday classics, winter favourites and a sprinkle of the ban
 d’s original songs that you’ve come to love.\nCaroline Brooks, Kerri Ough, 
 and Susan Passmore are JUNO award-winning songwriters and multi-instrumenta
 lists, known for their rich harmonies and nostalgic sound. Blending folk-ro
 ots, old-time swing, bluegrass, pop and soul, their music is a perfect fit 
 for the season.\nThey are joined by their Merry Men, a trio of world-class 
 musicians: on keys, upright bass and drums.\nWith great harmonies, stories 
 and songs that will have you humming all the way home, the Good Lovelies’ h
 oliday concert is a truly cup-filling evening for anyone who loves the magi
 c of the season.\nBUY TICKETS HERE (https://secure1.tixhub.com/showplace/on
 line/b_otix.asp?cboPerformances=382&amp;cboEvent=271&amp;width=1732)\n
X-ALT-DESC;FMTTYPE=text/html:<p><strong>Good Lovelies’ much-loved Christmas tour returns to Peterborough
  this December</strong>, bringing holiday classics, winter favourites and a
  sprinkle of the band’s original songs that you’ve come to love.</p><p>Caro
 line Brooks, Kerri Ough, and Susan Passmore are JUNO award-winning songwrit
 ers and multi-instrumentalists, known for their rich harmonies and nostalgi
 c sound. Blending folk-roots, old-time swing, bluegrass, pop and soul, thei
 r music is a perfect fit for the season.</p><p>They are joined by their <em
 >Merry Men</em>, a trio of world-class musicians: on keys, upright bass and
  drums.</p><p>With great harmonies, stories and songs that will have you hu
 mming all the way home, the Good Lovelies’ holiday concert is a truly cup-f
 illing evening for anyone who loves the magic of the season.</p><p><strong>
 <a href="https://secure1.tixhub.com/showplace/online/b_otix.asp?cboPerforma
 nces=382&amp;cboEvent=271&amp;width=1732">BUY TICKETS HERE</a></strong></p>
CONTACT:This email address is being protected from spambots. You need JavaScript enabled to view it.
DTSTAMP:20260424T082719
DTSTART:20251211T193000
SEQUENCE:0
TRANSP:OPAQUE
END:VEVENT
END:VCALENDAR