BEGIN:VCALENDAR
VERSION:2.0
PRODID:-//jEvents 2.0 for Joomla//EN
CALSCALE:GREGORIAN
METHOD:PUBLISH
BEGIN:VEVENT
UID:0d4b0743a6f56937b0f3a985ada66275
CATEGORIES:Community Events
CREATED:20251202T160415
SUMMARY:United Way Haliburton Kawartha Lakes online charity auction
LOCATION:https://www.zeffy.com/en-CA/ticketing/united-way-of-haliburton-kawartha-lak
 ess-online-auction
DESCRIPTION:Find unique items on the the United Way Haliburton Kawartha Lakes online ch
 arity auction. Create a life experience with lunch with the mayor or having
  a young one be a Jr. Firefighter at the Lindsay Fire Hall. Bid on a local 
 gift certificates for axe throwing for 4 at Solidarity Axe Club, a big glow
  up with a $1000 from MUSE, or coffee and food gift cards at downtown estab
 lishments. Destination day trip options like 1000 Island Cruise and Trolley
 , Niagara Parks passes, family pass to Jungle Cat World, or the ROM and Hoc
 key Hall of Fame. Get big smiles when you gift diamond earrings or a HUGE C
 rayola gift basket. All proceeds fund impactful community projects and prog
 rams in 2026.\n
X-ALT-DESC;FMTTYPE=text/html:<p>Find unique items on the the United Way Haliburton Kawartha Lakes online
  charity auction. Create a life experience with lunch with the mayor or hav
 ing a young one be a Jr. Firefighter at the Lindsay Fire Hall. Bid on a loc
 al gift certificates for axe throwing for 4 at Solidarity Axe Club, a big g
 low up with a $1000 from MUSE, or coffee and food gift cards at downtown es
 tablishments. Destination day trip options like 1000 Island Cruise and Trol
 ley, Niagara Parks passes, family pass to Jungle Cat World, or the ROM and 
 Hockey Hall of Fame. Get big smiles when you gift diamond earrings or a HUG
 E Crayola gift basket. All proceeds fund impactful community projects and p
 rograms in 2026.</p>
CONTACT:This email address is being protected from spambots. You need JavaScript enabled to view it.
DTSTAMP:20260422T163306
DTSTART:20251202T080000
DTEND:20251216T120000
SEQUENCE:0
TRANSP:OPAQUE
END:VEVENT
END:VCALENDAR