BEGIN:VCALENDAR
VERSION:2.0
PRODID:-//jEvents 2.0 for Joomla//EN
CALSCALE:GREGORIAN
METHOD:PUBLISH
BEGIN:VEVENT
UID:dbf9b2ede2355d99618694e8dd234eef
CATEGORIES:Community Events
CREATED:20251207T155843
SUMMARY:WORD
LOCATION:Dreams of Beans
DESCRIPTION:Every Monday, myself &amp; One other person have a writing group at Dreams 
 of Beans from 11 am to 12:30. Looking for more people. Anyone interested in
  writing is welcome\n
X-ALT-DESC;FMTTYPE=text/html:<p>Every Monday, myself &amp; One other person have a writing group at Drea
 ms of Beans from 11 am to 12:30. Looking for more people. Anyone interested
  in writing is welcome</p>
CONTACT:Jeff@705-760-3937
DTSTAMP:20260424T082713
DTSTART:20251208T110000
DTEND:20251208T130000
SEQUENCE:0
TRANSP:OPAQUE
END:VEVENT
END:VCALENDAR