BEGIN:VCALENDAR
VERSION:2.0
PRODID:-//jEvents 2.0 for Joomla//EN
CALSCALE:GREGORIAN
METHOD:PUBLISH
BEGIN:VEVENT
UID:2fe3a9ec59e3514e451944dfaad4d640
CATEGORIES:Community Events
CREATED:20251217T155226
SUMMARY:Make It Handmade Peterborough Crafters Event
LOCATION:Banquet Hall - Ptbo Legion - 1550 Lansdowne St W
DESCRIPTION:Find baked goods, tumblers, crochet stackers/dolls, soaps, candles, chocola
 te, pet bandanas, string art, wood work, art decor, holiday decor AND SO MU
 CH MORE! \nWe’re accepting non-perishable food items for the Kawartha Food 
 Share at this event! \n
X-ALT-DESC;FMTTYPE=text/html:<p class="p1"><span class="s1">Find baked goods, tumblers, crochet stackers
 /dolls, soaps, candles, chocolate, pet bandanas, string art, wood work, art
  decor, holiday decor AND SO MUCH MORE! </span></p><p class="p1"><span clas
 s="s1">We’re accepting non-perishable food items for the Kawartha Food Shar
 e at this event! </span></p>
CONTACT:Donna Reid 
X-EXTRAINFO:FREE ADMISSION!! \n\nHomsie Bakery will be there with her build your own de
 ssert trays!  
DTSTAMP:20260424T094625
DTSTART:20251207T100000
DTEND:20251207T150000
SEQUENCE:0
TRANSP:OPAQUE
END:VEVENT
END:VCALENDAR