BEGIN:VCALENDAR
VERSION:2.0
PRODID:-//jEvents 2.0 for Joomla//EN
CALSCALE:GREGORIAN
METHOD:PUBLISH
BEGIN:VEVENT
UID:5c1670dbbfc3f50db1407a4fcf907925
CATEGORIES:Community Events
CREATED:20251221T173526
SUMMARY:39th Stoney Lake Combo
LOCATION:Carveth’s Marina - Douro-Dummer
DESCRIPTION:Fishing tournament in support of the Douro-Dummer Firefighters Association.
  Event runs the 3rd weekend after Labour Day at Carveth’s Marina.\nEvent de
 tails available at www.stoneylakecombo.com (http://www.stoneylakecombo.com)
 \nSponsorship opportunities available by contacting This email address is b
 eing protected from spambots. You need JavaScript enabled to view it.\n
X-ALT-DESC;FMTTYPE=text/html:<p>Fishing tournament in support of the Douro-Dummer Firefighters Associati
 on. Event runs the 3rd weekend after Labour Day at Carveth’s Marina.</p><p>
 Event details available at <a href="http://www.stoneylakecombo.com">www.sto
 neylakecombo.com</a></p><p>Sponsorship opportunities available by contactin
 g <joomla-hidden-mail  is-link="1" is-email="1" first="c2VjcmV0YXJ5" last="
 ZGRmZC5jYQ==" text="c2VjcmV0YXJ5QGRkZmQuY2E=" base="" >This email address i
 s being protected from spambots. You need JavaScript enabled to view it.</j
 oomla-hidden-mail></p>
CONTACT:This email address is being protected from spambots. You need JavaScript enabled to view it.
DTSTAMP:20260422T204329
DTSTART:20260925T190000
DTEND:20260927T170000
SEQUENCE:0
TRANSP:OPAQUE
END:VEVENT
END:VCALENDAR