BEGIN:VCALENDAR
VERSION:2.0
PRODID:-//jEvents 2.0 for Joomla//EN
CALSCALE:GREGORIAN
METHOD:PUBLISH
BEGIN:VEVENT
UID:1096157beeb02c8b30742a3aa762c823
CATEGORIES:Community Events
CREATED:20251229T173325
SUMMARY:St Thomas Aquinas Catholic Secondary School Gr 9 Information Night Jan 13 2026
LOCATION:260 Angeline St. South\, Lindsay
DESCRIPTION:St. Thomas Aquinas Catholic Secondary School will be hosting its annual "Gr
 ade 9 Information Night" on Tuesday, January 13, 2026.  The evening's event
 s will begin at 6:30 pm.  This is a great opportunity for ALL parents/guard
 ians and ALL future Grade 9 students to visit St. Thomas Aquinas and see fi
 rst-hand the opportunities that are available to them.  Call 705-878-4117 w
 ith any questions concerning this event.\n
X-ALT-DESC;FMTTYPE=text/html:<p>St. Thomas Aquinas Catholic Secondary School will be hosting its annual 
 "Grade 9 Information Night" on Tuesday, January 13, 2026.  The evening's ev
 ents will begin at 6:30 pm.  This is a great opportunity for ALL parents/gu
 ardians and ALL future Grade 9 students to visit St. Thomas Aquinas and see
  first-hand the opportunities that are available to them.  Call 705-878-411
 7 with any questions concerning this event.</p>
CONTACT:STA School Office 705-878-4117
X-EXTRAINFO:Open invitation to all families of Grade 8 students
DTSTAMP:20260422T150619
DTSTART:20260113T183000
DTEND:20260113T200000
SEQUENCE:0
TRANSP:OPAQUE
END:VEVENT
END:VCALENDAR