BEGIN:VCALENDAR
VERSION:2.0
PRODID:-//jEvents 2.0 for Joomla//EN
CALSCALE:GREGORIAN
METHOD:PUBLISH
BEGIN:VEVENT
UID:ab91ed4ad3c10c02ab45d64988e19ad8
CATEGORIES:Community Events
CREATED:20260108T153615
SUMMARY:Valentine's Day High Tea
LOCATION:21 Canal St. Bobcaygeon
DESCRIPTION:💕 Valentine’s Day High Tea at the Boyd Heritage Museum 💕\n \nCelebrate Vale
 ntine’s Day in timeless style! Join us on Saturday, February 14 at 1:00 PM 
 for a charming High Tea featuring delicate sandwiches, fresh scones with ja
 m and clotted cream, and a delightful strawberry shortcake dessert — all se
 rved with tea in a beautiful heritage setting.\n \nDress to impress for you
 r chance to win special prizes for Best Valentine Outfit and Best Decorated
  Hat, plus enjoy fun door prizes and draws throughout the afternoon.\n \n🎟️
  Tickets: $25 per person — available at the Boyd Museum\n \nAll proceeds su
 pport the ongoing care and operation of the Boyd Heritage Museum.\n \n📍 21 
 Canal St., Bobcaygeon\n📞 For more information: 705-738-9482\n
X-ALT-DESC;FMTTYPE=text/html:<p>💕 Valentine’s Day High Tea at the Boyd Heritage Museum 💕</p><p>&nbsp;</p
 ><p>Celebrate Valentine’s Day in timeless style! Join us on Saturday, Febru
 ary 14 at 1:00 PM for a charming High Tea featuring delicate sandwiches, fr
 esh scones with jam and clotted cream, and a delightful strawberry shortcak
 e dessert — all served with tea in a beautiful heritage setting.</p><p>&nbs
 p;</p><p>Dress to impress for your chance to win special prizes for Best Va
 lentine Outfit and Best Decorated Hat, plus enjoy fun door prizes and draws
  throughout the afternoon.</p><p>&nbsp;</p><p>🎟️ Tickets: $25 per person — 
 available at the Boyd Museum</p><p>&nbsp;</p><p>All proceeds support the on
 going care and operation of the Boyd Heritage Museum.</p><p>&nbsp;</p><p>📍 
 21 Canal St., Bobcaygeon</p><p>📞 For more information: 705-738-9482</p>
CONTACT:This email address is being protected from spambots. You need JavaScript enabled to view it.
DTSTAMP:20260422T132314
DTSTART:20260214T130000
DTEND:20260214T160000
SEQUENCE:0
TRANSP:OPAQUE
END:VEVENT
END:VCALENDAR