BEGIN:VCALENDAR
VERSION:2.0
PRODID:-//jEvents 2.0 for Joomla//EN
CALSCALE:GREGORIAN
METHOD:PUBLISH
BEGIN:VEVENT
UID:3170f014c570078ffb4a445d38761f63
CATEGORIES:Community Events
CREATED:20260109T171002
SUMMARY:Craft and Connect - Book Bedazzling at Coboconk Library Branch
LOCATION:Coboconk Library Branch
DESCRIPTION:Bring your own book, or choose one of ours and give it a dazzling glow-up! 
 Use our gems and craft supplies to transform any cover into a one-of-a-kind
  sparkling masterpiece!\nThe program is open to adults of all skill levels.
  Registration is required, contact your branch to reserve your spot!\nDisco
 ver more craft and adult programs on our website events calendar or visit y
 our local branch today.\n
X-ALT-DESC;FMTTYPE=text/html:<p>Bring your own book, or choose one of ours and give it a dazzling glow-u
 p! Use our gems and craft supplies to transform any cover into a one-of-a-k
 ind sparkling masterpiece!<br />The program is open to adults of all skill 
 levels. Registration is required, contact your branch to reserve your spot!
 </p><p>Discover more craft and adult programs on our website events calenda
 r or visit your local branch today.</p>
CONTACT:705-324-9411 ext. 3504
X-EXTRAINFO:9 Grandy Rd. Coboconk
DTSTAMP:20260422T132728
DTSTART:20260203T120000
DTEND:20260203T130000
SEQUENCE:0
TRANSP:OPAQUE
END:VEVENT
END:VCALENDAR