BEGIN:VCALENDAR
VERSION:2.0
PRODID:-//jEvents 2.0 for Joomla//EN
CALSCALE:GREGORIAN
METHOD:PUBLISH
BEGIN:VEVENT
UID:9cf8e1ff34f20d4df732af77f8f2011b
CATEGORIES:Community Events
CREATED:20260111T194820
SUMMARY:PSO presents "Stars of the Silver Screen"
LOCATION:Showplace Performance Centre\, 290 George St. N.\, Peterborough
DESCRIPTION:The Peterborough Symphony Orchestra will transport its audiences back in ti
 me to the transformative era of the 1960’s. Music Director, Michael Newnham
 , has curated a hit list of fabulous film scores from iconic movies like Pi
 nk Panther, Mission Impossible, The Sound of Music, and, of course, James B
 ond. There will be so much more!\n \nDue to the popularity of our film scor
 e events, the PSO will hold two concerts at Showplace on Saturday, February
  7 at 7:30 p.m. and Sunday, February 8th at 3 p.m. Consider arriving 45 min
 utes early for Maestro Newnham’s pre-concert talk and get a sneak peek of w
 hat you will hear.\n \nTo help set the mood, audience members are encourage
 d to dress in their favourite ‘60’s style. Will it be the Jackie Kennedy lo
 ok, mini-skirt, slim-cut suit, 007 attitude, go-go boots, geometric pattern
 s or hippie fringe and headbands? We can’t wait to see!\n \nVisit https://t
 hepso.org/stars-of-the-silver-screen (https://thepso.org/stars-of-the-silve
 r-screen) where you can purchase tickets and check out Maestro Newnham’s cu
 rated Spotify playlist to get you in the mood for this concert.\n \nMore in
 formation is available at www.thepso.org (http://www.thepso.org). Contact t
 he PSO at 705-742-1992.\n
X-ALT-DESC;FMTTYPE=text/html:<p>The Peterborough Symphony Orchestra will transport its audiences back in
  time to the transformative era of the 1960’s. Music Director, Michael Newn
 ham, has curated a hit list of fabulous film scores from iconic movies like
  Pink Panther, Mission Impossible, The Sound of Music, and, of course, Jame
 s Bond. There will be so much more!</p><p> </p><p>Due to the popularity of 
 our film score events, the PSO will hold two concerts at Showplace on Satur
 day, February 7 at 7:30 p.m. and Sunday, February 8<sup>th</sup> at 3 p.m. 
 Consider arriving 45 minutes early for Maestro Newnham’s pre-concert talk a
 nd get a sneak peek of what you will hear.</p><p> </p><p>To help set the mo
 od, audience members are encouraged to dress in their favourite ‘60’s style
 . Will it be the Jackie Kennedy look, mini-skirt, slim-cut suit, 007 attitu
 de, go-go boots, geometric patterns or hippie fringe and headbands? We can’
 t wait to see!</p><p> </p><p>Visit <a href="https://thepso.org/stars-of-the
 -silver-screen">https://thepso.org/stars-of-the-silver-screen</a> where you
  can purchase tickets and check out Maestro Newnham’s curated Spotify playl
 ist to get you in the mood for this concert.</p><p> </p><p>More information
  is available at <a href="http://www.thepso.org">www.thepso.org</a>. Contac
 t the PSO at 705-742-1992.</p>
CONTACT:Monique Beneteau, This email address is being protected from spambots. You need JavaScript enabled to view it.
DTSTAMP:20260422T132728
DTSTART:20260208T150000
DTEND:20260208T173000
SEQUENCE:0
TRANSP:OPAQUE
END:VEVENT
END:VCALENDAR