BEGIN:VCALENDAR
VERSION:2.0
PRODID:-//jEvents 2.0 for Joomla//EN
CALSCALE:GREGORIAN
METHOD:PUBLISH
BEGIN:VEVENT
UID:8d722f5a30e887caaa428c6408dcabe5
CATEGORIES:Community Events
CREATED:20260112T203545
SUMMARY:Everything You Need to Know About SR&ED
LOCATION:Zoom
DESCRIPTION:SR&amp;ED continues to be a powerful tool for Canadian companies—and recent
  updates make it even more accessible. Join me during this workshop as I un
 pack what’s new and how you can make the most of these incentives. This is 
 a must for businesses looking to innovate and grow!\nYou'll Learn:\n - Intr
 oduction to the SR&amp;ED Program: An overview of the Scientific Research a
 nd Experimental Development (SR&amp;ED) program, its purpose, and its benef
 its for companies.\n - Strategic Tips and Tricks for SR&amp;ED applications
 : Providing advice on how firms can prepare and submit successful SR&amp;ED
  claims, including industry-specific best practices and common pitfalls to 
 avoid.\n - Audit Preparation and Defense: Insights on how companies can pre
 pare for potential audits by the Canada Revenue Agency (CRA) and strategies
  for defending SR&amp;ED claims during an audit.\n - Maximizing Benefits fr
 om SR&amp;ED and Other Government Support Programs: Discussing the relation
 ship between the SR&amp;ED program and other Government support programs, s
 uch as grants, and how businesses can maximize their benefits.\n - Enhancem
 ents to the SR&amp;ED Program: An update on the significant enhancements an
 d SR&amp;ED program changes announced in the Nov 4 Federal BudgetRegister h
 ere: https://www.eventbrite.ca/e/everything-you-need-to-know-about-sred-tic
 kets-1976025829449?aff=oddtdtcreator\n
X-ALT-DESC;FMTTYPE=text/html:<p>SR&amp;ED continues to be a powerful tool for Canadian companies—and rec
 ent updates make it even more accessible. Join me during this workshop as I
  unpack what’s new and how you can make the most of these incentives. This 
 is a must for businesses looking to innovate and grow!</p><h3><strong>You'l
 l Learn:</strong></h3><ul><li>Introduction to the SR&amp;ED Program: An ove
 rview of the Scientific Research and Experimental Development (SR&amp;ED) p
 rogram, its purpose, and its benefits for companies.</li><li>Strategic Tips
  and Tricks for SR&amp;ED applications: Providing advice on how firms can p
 repare and submit successful SR&amp;ED claims, including industry-specific 
 best practices and common pitfalls to avoid.</li><li>Audit Preparation and 
 Defense: Insights on how companies can prepare for potential audits by the 
 Canada Revenue Agency (CRA) and strategies for defending SR&amp;ED claims d
 uring an audit.</li><li>Maximizing Benefits from SR&amp;ED and Other Govern
 ment Support Programs: Discussing the relationship between the SR&amp;ED pr
 ogram and other Government support programs, such as grants, and how busine
 sses can maximize their benefits.</li><li>Enhancements to the SR&amp;ED Pro
 gram: An update on the significant enhancements and SR&amp;ED program chang
 es announced in the Nov 4 Federal Budget</li></ul><p>Register here: https:/
 /www.eventbrite.ca/e/everything-you-need-to-know-about-sred-tickets-1976025
 829449?aff=oddtdtcreator</p>
CONTACT:This email address is being protected from spambots. You need JavaScript enabled to view it.
X-EXTRAINFO:Register here: https://www.eventbrite.ca/e/everything-you-need-to-know-abou
 t-sred-tickets-1976025829449?aff=oddtdtcreator
DTSTAMP:20260422T132017
DTSTART:20260204T110000
DTEND:20260204T120000
SEQUENCE:0
TRANSP:OPAQUE
END:VEVENT
END:VCALENDAR