BEGIN:VCALENDAR
VERSION:2.0
PRODID:-//jEvents 2.0 for Joomla//EN
CALSCALE:GREGORIAN
METHOD:PUBLISH
BEGIN:VEVENT
UID:6d8e22301614db3477ec1678114686c3
CATEGORIES:Community Events
CREATED:20260112T203818
SUMMARY:When & How to Pivot Your Startup Online Workshop
LOCATION:Zoom
DESCRIPTION:Most startups fail not because founders don’t work hard enough, but because
  they keep pushing a plan that’s no longer working. This workshop helps fou
 nders recognize when it’s time to pivot, how to do it without losing moment
 um, and how to test new directions quickly before burning more time and cas
 h.\n\nWe’ll go through real examples of successful pivots, identify common 
 blind spots that delay tough decisions, and teach a framework to evaluate w
 hether your startup should double down, adjust, or completely change direct
 ion.\nThis session is designed for early-stage founders who already have a 
 product or MVP in the market and are struggling with slow traction, custome
 r churn, or unclear product/market fit. Expect candid discussions, practica
 l frameworks, and clarity on your next move.\nYou'll Learn How To:\n - Reco
 gnize the 5 key signals that it’s time to pivot, including market rejection
 , stagnant engagement, and internal misalignment.\n - Understand the 3 type
 s of pivots (customer, problem, or product) and which one best fits their s
 ituation.\n - Learn a simple validation process to test new ideas before co
 mmitting resources.\n - Build a pivot decision matrix to compare potential 
 directions based on data, not emotion.\n - Leave with an actionable next st
 ep for either refining their current model or exploring a new one.Register 
 here: https://www.eventbrite.ca/e/when-how-to-pivot-your-startup-tickets-19
 75840951474?aff=oddtdtcreator\n
X-ALT-DESC;FMTTYPE=text/html:<p>Most startups fail not because founders don’t work hard enough, but beca
 use they keep pushing a plan that’s no longer working. This workshop helps 
 founders recognize when it’s time to pivot, how to do it without losing mom
 entum, and how to test new directions quickly before burning more time and 
 cash.<br /><br />We’ll go through real examples of successful pivots, ident
 ify common blind spots that delay tough decisions, and teach a framework to
  evaluate whether your startup should double down, adjust, or completely ch
 ange direction.</p><p>This session is designed for early-stage founders who
  already have a product or MVP in the market and are struggling with slow t
 raction, customer churn, or unclear product/market fit. Expect candid discu
 ssions, practical frameworks, and clarity on your next move.</p><h3><strong
 >You'll Learn How To:</strong></h3><ul><li>Recognize the 5 key signals that
  it’s time to pivot, including market rejection, stagnant engagement, and i
 nternal misalignment.</li><li>Understand the 3 types of pivots (customer, p
 roblem, or product) and which one best fits their situation.</li><li>Learn 
 a simple validation process to test new ideas before committing resources.<
 /li><li>Build a pivot decision matrix to compare potential directions based
  on data, not emotion.</li><li>Leave with an actionable next step for eithe
 r refining their current model or exploring a new one.</li></ul><p>Register
  here: https://www.eventbrite.ca/e/when-how-to-pivot-your-startup-tickets-1
 975840951474?aff=oddtdtcreator</p>
CONTACT:This email address is being protected from spambots. You need JavaScript enabled to view it.
X-EXTRAINFO:Register here: https://www.eventbrite.ca/e/when-how-to-pivot-your-startup-t
 ickets-1975840951474?aff=oddtdtcreator
DTSTAMP:20260424T042204
DTSTART:20260225T100000
DTEND:20260225T110000
SEQUENCE:0
TRANSP:OPAQUE
END:VEVENT
END:VCALENDAR