BEGIN:VCALENDAR
VERSION:2.0
PRODID:-//jEvents 2.0 for Joomla//EN
CALSCALE:GREGORIAN
METHOD:PUBLISH
BEGIN:VEVENT
UID:7c5cee524708a3d15dc340a2da65beeb
CATEGORIES:Community Events
CREATED:20260113T003100
SUMMARY:Monarch Bible Camp - West Guilford
LOCATION:West Guilford Baptist Church
DESCRIPTION:Monarch Bible Camp is a mobile, faith-based summer camp ministry that bring
 s exciting Day Camps to families across Kawartha Lakes and the Haliburton H
 ighlands. Our camps are for boys and girls ages 6–12, and Day Camps run 9 A
 M to 4 PM each week. Kids can enjoy boating, swimming, archery, biking, cra
 fts, chapel, group games, and plenty of opportunities for making friends, a
 ll in a safe, fun, and faith-filled environment.\n
X-ALT-DESC;FMTTYPE=text/html:<p>Monarch Bible Camp is a mobile, faith-based summer camp ministry that br
 ings exciting Day Camps to families across Kawartha Lakes and the Haliburto
 n Highlands. Our camps are for boys and girls ages 6–12, and Day Camps run 
 9 AM to 4 PM each week. Kids can enjoy boating, swimming, archery, biking, 
 crafts, chapel, group games, and plenty of opportunities for making friends
 , all in a safe, fun, and faith-filled environment.</p>
CONTACT:This email address is being protected from spambots. You need JavaScript enabled to view it.
X-EXTRAINFO:Visit https://www.monarchbiblecamp.com/register to register
DTSTAMP:20260422T154633
DTSTART:20260706T090000
DTEND:20260710T160000
SEQUENCE:0
TRANSP:OPAQUE
END:VEVENT
END:VCALENDAR