BEGIN:VCALENDAR
VERSION:2.0
PRODID:-//jEvents 2.0 for Joomla//EN
CALSCALE:GREGORIAN
METHOD:PUBLISH
BEGIN:VEVENT
UID:227fe5c985b792b3b05836ba1738f47c
CATEGORIES:Community Events
CREATED:20260114T135904
SUMMARY:Free Public Skate - Lindsay
LOCATION:Lindsay Recreation Complex
DESCRIPTION:Free public skating is hitting the ice in Lindsay, courtesy of the elementa
 ry teachers of Trillium Lakelands—because communities thrive when we show u
 p for each other. Join us at the Lindsay Recreation Complex on Sunday, Febr
 uary 22nd from 11:45–12:45 for an hour of pure, family-friendly winter fun.
  Consider it a little gesture of appreciation from the people who spend the
 ir days helping your kids shine.\n
X-ALT-DESC;FMTTYPE=text/html:<p>Free public skating is hitting the ice in Lindsay, courtesy of the eleme
 ntary teachers of Trillium Lakelands—because communities thrive when we sho
 w up for each other. Join us at the Lindsay Recreation Complex on <strong d
 ata-start="325" data-end="367">Sunday, February 22nd from 11:45–12:45</stro
 ng> for an hour of pure, family-friendly winter fun. Consider it a little g
 esture of appreciation from the people who spend their days helping your ki
 ds shine.</p>
CONTACT:This email address is being protected from spambots. You need JavaScript enabled to view it.
DTSTAMP:20260423T131115
DTSTART:20260222T114500
DTEND:20260222T124500
SEQUENCE:0
TRANSP:OPAQUE
END:VEVENT
END:VCALENDAR