BEGIN:VCALENDAR
VERSION:2.0
PRODID:-//jEvents 2.0 for Joomla//EN
CALSCALE:GREGORIAN
METHOD:PUBLISH
BEGIN:VEVENT
UID:f4c00df09be68467a55dc363fb04ae5e
CATEGORIES:Community Events
CREATED:20260115T150942
SUMMARY:United Way Peterborough & District Presents: Peterborough Performs VI
LOCATION:Showplace Performance Centre
DESCRIPTION:United Way Peterborough &amp; District is thrilled to celebrate the 6th yea
 r of Peterborough Performs, a remarkable event uniting our community throug
 h music and generosity. Last year’s concert drew a crowd of more than 300 a
 ttendees, showcasing the incredible community spirit behind this event. Thi
 s year’s live show will once again feature 14 local musical acts, taking th
 e stage at Showplace Performance Centre. \nPeterborough Performs is uniting
  the community to highlight the challenges faced by our most vulnerable cit
 izens, with a focus on homelessness as a critical issue.\nTickets are 1 for
  $50 or 2 for $80\n
X-ALT-DESC;FMTTYPE=text/html:<p><span data-olk-copy-source="MessageBody">United Way Peterborough &amp; D
 istrict is thrilled to celebrate the 6th year of Peterborough Performs, a r
 emarkable event uniting our community through music and generosity. Last ye
 ar’s concert drew a crowd of more than 300 attendees, showcasing the incred
 ible community spirit behind this event. This year’s live show will once ag
 ain feature 14 local musical acts, taking the stage at Showplace Performanc
 e Centre. </span></p><p><span data-olk-copy-source="MessageBody">Peterborou
 gh Performs is uniting the community to highlight the challenges faced by o
 ur most vulnerable citizens, with a focus on homelessness as a critical iss
 ue.</span></p><p><strong>Tickets are 1 for $50 or 2 for $80</strong></p>
CONTACT:This email address is being protected from spambots. You need JavaScript enabled to view it.
X-EXTRAINFO:Tickets are available online: https://secure1.tixhub.com/showplace/online/b
 _otix.asp?cboPerformances=407&amp;cboEvent=280&amp;width=
DTSTAMP:20260424T042151
DTSTART:20260226T190000
SEQUENCE:0
TRANSP:OPAQUE
END:VEVENT
END:VCALENDAR