BEGIN:VCALENDAR
VERSION:2.0
PRODID:-//jEvents 2.0 for Joomla//EN
CALSCALE:GREGORIAN
METHOD:PUBLISH
BEGIN:VEVENT
UID:ab803ad42d77d49b44855c001b61a76e
CATEGORIES:Community Events
CREATED:20260127T021643
SUMMARY:The Quest Kickboxing
LOCATION:The Venue Peterborough
DESCRIPTION:LIVE Kickboxing – March 28 at The Venue (Peterborough)\nExperience the ener
 gy of a high-intensity night of live kickboxing action on Thursday, March 2
 8 at The Venue in downtown Peterborough! Presented by The Quest Promotions 
 in partnership with World Championship Martial Arts, this event brings toge
 ther top local athletes and an electric crowd of 300+ fight fans, families,
  and fitness enthusiasts.\nDoors open at 6:00 PM. Fights start at 7:00 PM s
 harp.\nAll ages welcome. Licensed venue. Food + drinks available.\n🔥 Reserv
 ed tables, VIP access, and general admission tickets available now.🎟️ Don’t
  miss your chance to support local fighters and experience the most excitin
 g combat sports event in the region.\nFor tickets and sponsor inquiries, co
 ntact:📧 This email address is being protected from spambots. You need JavaS
 cript enabled to view it. | ☎️ 705-749-9056\n
X-ALT-DESC;FMTTYPE=text/html:<p data-start="106" data-end="529"><strong data-start="106" data-end="164">
 LIVE Kickboxing – March 28 at The Venue (Peterborough)</strong></p><p data-
 start="106" data-end="529"><br data-start="164" data-end="167" />Experience
  the energy of a high-intensity night of live kickboxing action on <strong 
 data-start="244" data-end="266">Thursday, March 28</strong> at <strong data
 -start="270" data-end="308">The Venue in downtown Peterborough</strong>! Pr
 esented by <strong data-start="323" data-end="347">The Quest Promotions</st
 rong> in partnership with <strong data-start="368" data-end="403">World Cha
 mpionship Martial Arts</strong>, this event brings together top local athle
 tes and an electric crowd of 300+ fight fans, families, and fitness enthusi
 asts.</p><p data-start="531" data-end="645">Doors open at 6:00 PM. Fights s
 tart at 7:00 PM sharp.</p><p data-start="531" data-end="645"><br data-start
 ="584" data-end="587" />All ages welcome. Licensed venue. Food + drinks ava
 ilable.</p><p data-start="647" data-end="846">🔥 Reserved tables, VIP access
 , and general admission tickets available now.<br data-start="723" data-end
 ="726" />🎟️ Don’t miss your chance to support local fighters and experience
  the most exciting combat sports event in the region.</p><p data-start="848
 " data-end="940">For tickets and sponsor inquiries, contact:<br data-start=
 "891" data-end="894" />📧 <a class="decorated-link cursor-pointer" rel="noop
 ener" data-start="897" data-end="922"><joomla-hidden-mail  is-link="1" is-e
 mail="1" first="aW5mbw==" last="d29ybGRjaGFtcGlvbnNoaXAuY2E=" text="aW5mb0B
 3b3JsZGNoYW1waW9uc2hpcC5jYQ==" base="" >This email address is being protect
 ed from spambots. You need JavaScript enabled to view it.</joomla-hidden-ma
 il></a> | ☎️ 705-749-9056</p>
CONTACT:This email address is being protected from spambots. You need JavaScript enabled to view it.
DTSTAMP:20260424T010352
DTSTART:20260328T180000
SEQUENCE:0
TRANSP:OPAQUE
END:VEVENT
END:VCALENDAR