BEGIN:VCALENDAR
VERSION:2.0
PRODID:-//jEvents 2.0 for Joomla//EN
CALSCALE:GREGORIAN
METHOD:PUBLISH
BEGIN:VEVENT
UID:333d7ec89666c0a0880fca1bff62dc50
CATEGORIES:Community Events
CREATED:20260128T195513
SUMMARY:St. Paul's Pancake Lunch & Supper (Feb. 17, 2026)
LOCATION:St. Paul's Anglican Church\, 45 Russell St. W.\, Lindsay\, ON. K9V 2W8
DESCRIPTION:Get your tickets for our Shrove Tuesday Pancake lunch or Supper at St. Paul
 's Anglican Church, Lindsay.\nMeals include:  Pancakes, sausages and a beve
 rage.\nLunch:  12 noon - 1:30pm            Dinner:  5pm - 6:30pm\nTickets: 
  Adults $15.00                   Children under 10  $5.00 \nCall (705) 324-
 4666 to purchase tickets, or get more information.\n
X-ALT-DESC;FMTTYPE=text/html:<p>Get your tickets for our Shrove Tuesday Pancake lunch or Supper at St. P
 aul's Anglican Church, Lindsay.</p><p>Meals include:  Pancakes, sausages an
 d a beverage.</p><p>Lunch:  12 noon - 1:30pm            Dinner:  5pm - 6:30
 pm</p><p>Tickets:  Adults $15.00                   Children under 10  $5.00
  </p><p>Call (705) 324-4666 to purchase tickets, or get more information.</
 p>
CONTACT:Church office: 705 324-4666
DTSTAMP:20260423T025557
DTSTART:20260217T120000
DTEND:20260217T183000
SEQUENCE:0
TRANSP:OPAQUE
END:VEVENT
END:VCALENDAR