BEGIN:VCALENDAR
VERSION:2.0
PRODID:-//jEvents 2.0 for Joomla//EN
CALSCALE:GREGORIAN
METHOD:PUBLISH
BEGIN:VEVENT
UID:b3e4805cff3d573126bd6cd0fa45e6c6
CATEGORIES:Community Events
CREATED:20260129T182157
SUMMARY:Valentines Dance with The Harry Peterson Band
LOCATION:Royal Canadian Legion Sir Sam Hughes Branch #67 12 York St. N. Lindsay Onta
 rio
DESCRIPTION:The Harry Peterson Band\n - Date: Saturday, February 14, 2026\n\n - Time: D
 oors open at 6:30 PM; music from 7:00 PM – 11:00 PM\n\n - Tickets: $15 in a
 dvance or $20 at the door\n\n - Location: 12 York St. N., Lindsay\n\n - Not
 e: This is an Age of Majority event with a cash-only bar. \n
X-ALT-DESC;FMTTYPE=text/html:<h3><b>The Harry Peterson Band</b></h3><ul><li><p><b>Date:</b> Saturday, Fe
 bruary 14, 2026</p></li><li><p><b>Time:</b> Doors open at 6:30 PM; music fr
 om 7:00 PM – 11:00 PM</p></li><li><p><b>Tickets:</b> $15 in advance or $20 
 at the door</p></li><li><p><b>Location:</b> 12 York St. N., Lindsay</p></li
 ><li><p><b>Note:</b> This is an Age of Majority event with a cash-only bar.
  </p></li></ul>
DTSTAMP:20260422T200827
DTSTART:20260214T190000
DTEND:20260214T230000
SEQUENCE:0
TRANSP:OPAQUE
END:VEVENT
END:VCALENDAR