BEGIN:VCALENDAR
VERSION:2.0
PRODID:-//jEvents 2.0 for Joomla//EN
CALSCALE:GREGORIAN
METHOD:PUBLISH
BEGIN:VEVENT
UID:3450f7c100560918b3488acb76753f15
CATEGORIES:Community Events
CREATED:20260129T183019
SUMMARY:You Should Know Better Comedy Tour
LOCATION:Royal Canadian Legion Sir Sam Hughes Branch #67 12 York St. N. Lindsay Onta
 rio
DESCRIPTION:YSKB Comedy Tour\n - Date: Saturday, February 28, 2026\n\n - Time: Doors an
 d Kitchen open at 6:00 PM (Kitchen closes at 7:45 PM); Show begins at 8:00 
 PM\n\n - Tickets: $20 in advance or $25 at the door (if not sold out)\n\n -
  Location: 12 York St. N., Lindsay\n\n - Note: Age of Majority event; cash-
 only bar and kitchen.\n\n - Tickets Available  online or At the legion\n - 
 www.eventbrite.ca (https://www.eventbrite.ca/e/comedy-night-at-the-lindsay-
 legion-tickets-1980116661237?aff=eivtefrnd&amp;utm_share_source=SavedEvents
 _android&amp;sg=c8a23461fc053747fcec020feb18ceaf080474032b5269ea549a9f8aeaa
 7e655bede48577947c7407f0303fde24d32466943acb1e17a687653f18aacefe80a1cc21be2
 d5a8d191db0e730828bc67&amp;fbclid=IwY2xjawPohXlleHRuA2FlbQIxMABicmlkETFiTDN
 iR1V4RllmM0p3S1Ayc3J0YwZhcHBfaWQQMjIyMDM5MTc4ODIwMDg5MgABHsk7mYqlsGQKLiegLD
 8pAOcOy-pwRb7mZtSzuNUFISwf5Ag_F9bI-d-IoyLy_aem_rK_QrEgbqOcNrgN6mQooag)
X-ALT-DESC;FMTTYPE=text/html:<h3><b>YSKB Comedy Tour</b></h3><ul><li><p><b>Date:</b> Saturday, February 
 28, 2026</p></li><li><p><b>Time:</b> Doors and Kitchen open at 6:00 PM (Kit
 chen closes at 7:45 PM); Show begins at 8:00 PM</p></li><li><p><b>Tickets:<
 /b> $20 in advance or $25 at the door (if not sold out)</p></li><li><p><b>L
 ocation:</b> 12 York St. N., Lindsay</p></li><li><p><b>Note:</b><em><strong
 > Age of Majority event; cash-only bar and kitchen.</strong></em></p></li><
 li><em><strong>Tickets Available  online or At the legion</strong></em></li
 ><li><em><strong><a title=" Buy tickets online" href="https://www.eventbrit
 e.ca/e/comedy-night-at-the-lindsay-legion-tickets-1980116661237?aff=eivtefr
 nd&amp;utm_share_source=SavedEvents_android&amp;sg=c8a23461fc053747fcec020f
 eb18ceaf080474032b5269ea549a9f8aeaa7e655bede48577947c7407f0303fde24d3246694
 3acb1e17a687653f18aacefe80a1cc21be2d5a8d191db0e730828bc67&amp;fbclid=IwY2xj
 awPohXlleHRuA2FlbQIxMABicmlkETFiTDNiR1V4RllmM0p3S1Ayc3J0YwZhcHBfaWQQMjIyMDM
 5MTc4ODIwMDg5MgABHsk7mYqlsGQKLiegLD8pAOcOy-pwRb7mZtSzuNUFISwf5Ag_F9bI-d-Ioy
 Ly_aem_rK_QrEgbqOcNrgN6mQooag" target="_blank" rel="noopener">www.eventbrit
 e.ca</a></strong></em></li></ul>
CONTACT:705 324 2613
X-EXTRAINFO:This email address is being protected from spambots. You need JavaScript en
 abled to view it.
DTSTAMP:20260424T010244
DTSTART:20260228T180000
DTEND:20260228T220000
SEQUENCE:0
TRANSP:OPAQUE
END:VEVENT
END:VCALENDAR