BEGIN:VCALENDAR
VERSION:2.0
PRODID:-//jEvents 2.0 for Joomla//EN
CALSCALE:GREGORIAN
METHOD:PUBLISH
BEGIN:VEVENT
UID:5dc12e821353facbf8fd286b7e83c4e4
CATEGORIES:Community Events
CREATED:20260207T221135
SUMMARY:Peterborough's Coldest Night of the Year 2KM and 5KM walk
LOCATION:256 Brock St\, Peterborough Ontario (The Bridge Youth Centre)
DESCRIPTION:Coldest Night Of The Year Walk with Street Level Advocacy of Peterborough\n
 Join us for The Coldest Night of the Year on February 28th from 5–7 PM at t
 he Bridge Youth Centre. Registration opens at 4 PM.\nThis is a family-frien
 dly fundraising walk, offering a 2 km or 5 km route, with all proceeds supp
 orting Street Level Advocacy of Peterborough and their work with people exp
 eriencing hurt, hunger, and homelessness.\nAfter the walk, stay for a warm 
 chilli meal and connect with your community. Everyone is welcome—bring your
  family and friends for a meaningful evening.\nStreet Level Advocacy of Pet
 erborough meets people where they are—on the streets, in parks, and downtow
 n—offering support, dignity, and practical help to those experiencing homel
 essness and hunger.\nHelp us make a difference and join walkers across the 
 country in this winter fundraising event.\n\nStart and Finish at 256 Brock 
 St, Peterborough Ontario (The Bridge Youth Centre)\n\n\nEvent Schedule\n4:0
 0 PM – Meet: Check-in at the Bridge Youth Centre\n4:45 PM – Muster: Gather 
 for opening remarks\n5:00 PM – Move: Walk send-off\n6:00 PM – Munch: Light 
 meal served\n7:00 PM – Mosey: Thank you! See you in 2027!\nCan’t join us in
  person? You can still register, fundraise, and walk offsite with friends a
 nd family.\n \nRoute Details\nRoute Distances: Choose between the 2 km or 5
  km route (maps provided below).\nRest Stops: Enjoy opportunities to rest a
 nd refresh with snacks along the way.\nSignage: Routes are clearly marked w
 ith bold blue CNOY signs.\nRoute Support: Marshals, rest stop hosts, and su
 pport vehicle drivers will be available throughout the walk.\nChildren: Age
 s 12 and under must be accompanied by a parent or guardian.\nPets: Only app
 roved and trained service animals are allowed on the route.\n
X-ALT-DESC;FMTTYPE=text/html:<p>Coldest Night Of The Year Walk with Street Level Advocacy of Peterboroug
 h</p><p data-start="61" data-end="209">Join us for <strong data-start="73" 
 data-end="106">The Coldest Night of the Year</strong> on <strong data-start
 ="110" data-end="127">February 28th</strong> from <strong data-start="133" 
 data-end="143">5–7 PM</strong> at the <strong data-start="151" data-end="17
 4">Bridge Youth Centre</strong>. Registration opens at <strong data-start="
 198" data-end="206">4 PM</strong>.</p><p data-start="211" data-end="438">Th
 is is a <strong data-start="221" data-end="257">family-friendly fundraising
  walk</strong>, offering a <strong data-start="270" data-end="292">2 km or 
 5 km route</strong>, with all proceeds supporting <strong data-start="323" 
 data-end="364">Street Level Advocacy of Peterborough</strong> and their wor
 k with people experiencing hurt, hunger, and homelessness.</p><p data-start
 ="440" data-end="598">After the walk, stay for a warm <strong data-start="4
 72" data-end="487">chilli meal</strong> and connect with your community. Ev
 eryone is welcome—bring your family and friends for a meaningful evening.</
 p><p data-start="600" data-end="803"><strong data-start="600" data-end="641
 ">Street Level Advocacy of Peterborough</strong> meets people where they ar
 e—on the streets, in parks, and downtown—offering support, dignity, and pra
 ctical help to those experiencing homelessness and hunger.</p><p data-start
 ="805" data-end="902">Help us make a difference and join walkers across the
  country in this winter fundraising event.<br /><br />Start and Finish at 2
 56 Brock St, Peterborough Ontario (The Bridge Youth Centre)<br /><br /></p>
 <p data-start="57" data-end="77"><strong data-start="57" data-end="75">Even
 t Schedule</strong></p><ul data-start="78" data-end="324"><li data-start="7
 8" data-end="137"><p data-start="80" data-end="137"><strong data-start="80"
  data-end="99">4:00 PM – Meet:</strong> Check-in at the Bridge Youth Centre
 </p></li><li data-start="138" data-end="190"><p data-start="140" data-end="
 190"><strong data-start="140" data-end="161">4:45 PM – Muster:</strong> Gat
 her for opening remarks</p></li><li data-start="191" data-end="228"><p data
 -start="193" data-end="228"><strong data-start="193" data-end="212">5:00 PM
  – Move:</strong> Walk send-off</p></li><li data-start="229" data-end="271"
 ><p data-start="231" data-end="271"><strong data-start="231" data-end="251"
 >6:00 PM – Munch:</strong> Light meal served</p></li><li data-start="272" d
 ata-end="324"><p data-start="274" data-end="324"><strong data-start="274" d
 ata-end="294">7:00 PM – Mosey:</strong> Thank you! See you in 2027!</p></li
 ></ul><p data-start="326" data-end="439"><strong data-start="326" data-end=
 "354">Can’t join us in person?</strong><br data-start="354" data-end="357" 
 /> You can still <strong data-start="371" data-end="412">register, fundrais
 e, and walk offsite</strong> with friends and family.</p><p>&nbsp;</p><p da
 ta-start="441" data-end="460"><strong data-start="441" data-end="458">Route
  Details</strong></p><ul data-start="461" data-end="983"><li data-start="46
 1" data-end="546"><p data-start="463" data-end="546"><strong data-start="46
 3" data-end="483">Route Distances:</strong> Choose between the 2 km or 5 km
  route (maps provided below).</p></li><li data-start="547" data-end="633"><
 p data-start="549" data-end="633"><strong data-start="549" data-end="564">R
 est Stops:</strong> Enjoy opportunities to rest and refresh with snacks alo
 ng the way.</p></li><li data-start="634" data-end="703"><p data-start="636"
  data-end="703"><strong data-start="636" data-end="648">Signage:</strong> R
 outes are clearly marked with bold blue CNOY signs.</p></li><li data-start=
 "704" data-end="820"><p data-start="706" data-end="820"><strong data-start=
 "706" data-end="724">Route Support:</strong> Marshals, rest stop hosts, and
  support vehicle drivers will be available throughout the walk.</p></li><li
  data-start="821" data-end="901"><p data-start="823" data-end="901"><strong
  data-start="823" data-end="836">Children:</strong> Ages 12 and under must 
 be accompanied by a parent or guardian.</p></li><li data-start="902" data-e
 nd="983"><p data-start="904" data-end="983"><strong data-start="904" data-e
 nd="913">Pets:</strong> Only approved and trained service animals are allow
 ed on the route.</p></li></ul>
CONTACT:Street Level Advocacy of Peterborough This email address is being protected from spambots. You need JavaScript enabled to view it.
DTSTAMP:20260424T010326
DTSTART:20260228T160000
DTEND:20260228T190000
SEQUENCE:0
TRANSP:OPAQUE
END:VEVENT
END:VCALENDAR