BEGIN:VCALENDAR
VERSION:2.0
PRODID:-//jEvents 2.0 for Joomla//EN
CALSCALE:GREGORIAN
METHOD:PUBLISH
BEGIN:VEVENT
UID:8d9b77ec9931149d354a52c9792d28a4
CATEGORIES:Community Events
CREATED:20260210T212937
SUMMARY:4th Annual Toonie Auction
LOCATION:Asphodel-Norwood Community Centre 
DESCRIPTION:Fundraiser for Hospice Norwood   4th Annual Toonie Auction..March 21/26 doo
 rs open at 12:30 auction runs 1-3..Held in the Millennium Room at the Aspho
 del-Norwood Community Centre  88 Alma St Norwood\n
X-ALT-DESC;FMTTYPE=text/html:<p>Fundraiser for Hospice Norwood   4th Annual Toonie Auction..March 21/26 
 doors open at 12:30 auction runs 1-3..Held in the Millennium Room at the As
 phodel-Norwood Community Centre  88 Alma St Norwood</p>
CONTACT:Jan Darling
DTSTAMP:20260424T010310
DTSTART:20260321T123000
DTEND:20260321T150000
SEQUENCE:0
TRANSP:OPAQUE
END:VEVENT
END:VCALENDAR