BEGIN:VCALENDAR
VERSION:2.0
PRODID:-//jEvents 2.0 for Joomla//EN
CALSCALE:GREGORIAN
METHOD:PUBLISH
BEGIN:VEVENT
UID:a894f1ad9836a3f0edcdbea48dac30ad
CATEGORIES:Community Events
CREATED:20260211T160950
SUMMARY:PTBO Home, Garden & Cottage Show
LOCATION:Healthy Planet Arena\, 911 Monaghan Road Peterborough
DESCRIPTION:Planning a project at your home or cottage? The PTBO Home, Garden and Cotta
 ge Show returns to Healthy Planet Arena on April 11th and 12th, presented b
 y Forest Hill Real Estate, TK &amp; Co Peterborough! With over 200 vendors 
 on site, you're sure to find plenty of inspiration, great deals and expert 
 advice! Plus free parking AND free admission! Visit www.PTBOHomeShow.ca (ht
 tp://www.PTBOHomeShow.ca) to see the floor maps and vendor list. \n
X-ALT-DESC;FMTTYPE=text/html:<p><span data-olk-copy-source="MessageBody">Planning a project at your home
  or cottage? The PTBO Home, Garden and Cottage Show returns to Healthy Plan
 et Arena on April 11th and 12th, presented by Forest Hill Real Estate, TK &
 amp; Co Peterborough! With over 200 vendors on site, you're sure to find pl
 enty of inspiration, great deals and expert advice! Plus free parking AND f
 ree admission! Visit <a href="http://www.PTBOHomeShow.ca">www.PTBOHomeShow.
 ca</a> to see the floor maps and vendor list. </span></p>
CONTACT:Jef Dueck
DTSTAMP:20260422T101642
DTSTART:20260411T090000
DTEND:20260412T150000
SEQUENCE:0
TRANSP:OPAQUE
END:VEVENT
END:VCALENDAR