BEGIN:VCALENDAR
VERSION:2.0
PRODID:-//jEvents 2.0 for Joomla//EN
CALSCALE:GREGORIAN
METHOD:PUBLISH
BEGIN:VEVENT
UID:7bbfd45cc60e56cb6c197bb7f941bdc3
CATEGORIES:Community Events
CREATED:20260216T003848
SUMMARY:Peterborough Lions Dog Guides Walk 2026
LOCATION:Peterborough Lions Community Centre
DESCRIPTION:Includes K9 Carnival, Nail Trims, Dog Related vendors, Fun Games and prizes
 !\nLocation:\n347 Burnham St.\nPeterborough Ont.\n
X-ALT-DESC;FMTTYPE=text/html:<p>Includes K9 Carnival, Nail Trims, Dog Related vendors, Fun Games and pri
 zes!</p><p>Location:</p><p>347 Burnham St.</p><p>Peterborough Ont.</p>
CONTACT:705-740-2288
X-EXTRAINFO:Pick up Registration Forms at local Vet Clinics, Pet Stores and Peterboroug
 h Lions community Centre
DTSTAMP:20260422T134214
DTSTART:20260531T100000
DTEND:20260531T140000
SEQUENCE:0
TRANSP:OPAQUE
END:VEVENT
END:VCALENDAR