BEGIN:VCALENDAR
VERSION:2.0
PRODID:-//jEvents 2.0 for Joomla//EN
CALSCALE:GREGORIAN
METHOD:PUBLISH
BEGIN:VEVENT
UID:ceee70b7b62644c8c4b123cd68174927
CATEGORIES:Community Events
CREATED:20260225T210516
SUMMARY:The Scale Blueprint: Building Your Growth Infrastructure
LOCATION:Zoom
DESCRIPTION:You've built traction, found your early users, and believe you've reached p
 roduct-market fit. Now comes the hard part: scaling without breaking what's
  working.\n​This workshop unpacks how successful software companies move fr
 om early traction to structured scale. You'll learn how to assess true read
 iness for growth, from validating PMF signals to ensuring your product, tec
 h, and team are ready for bigger demands.\nRegister here: https://luma.com/
 s1xdkvlw\n
X-ALT-DESC;FMTTYPE=text/html:<p class="">You've built traction, found your early users, and believe you'
 ve reached product-market fit. Now comes the hard part: scaling without bre
 aking what's working.</p><p class="">​This workshop unpacks how successful 
 software companies move from early traction to structured scale. You'll lea
 rn how to assess true readiness for growth, from validating PMF signals to 
 ensuring your product, tech, and team are ready for bigger demands.</p><p c
 lass="">Register here: https://luma.com/s1xdkvlw</p>
CONTACT:This email address is being protected from spambots. You need JavaScript enabled to view it.
X-EXTRAINFO:Register here: https://luma.com/s1xdkvlw
DTSTAMP:20260422T083411
DTSTART:20260428T110000
DTEND:20260428T120000
SEQUENCE:0
TRANSP:OPAQUE
END:VEVENT
END:VCALENDAR